BEGIN:VCALENDAR
VERSION:2.0
PRODID:-//Curve Learning &amp; Development - ECPv6.6.4.2//NONSGML v1.0//EN
CALSCALE:GREGORIAN
METHOD:PUBLISH
X-ORIGINAL-URL:https://curvelearning.org.uk
X-WR-CALDESC:Events for Curve Learning &amp; Development
REFRESH-INTERVAL;VALUE=DURATION:PT1H
X-Robots-Tag:noindex
X-PUBLISHED-TTL:PT1H
BEGIN:VTIMEZONE
TZID:Europe/London
BEGIN:DAYLIGHT
TZOFFSETFROM:+0000
TZOFFSETTO:+0100
TZNAME:BST
DTSTART:20260329T010000
END:DAYLIGHT
BEGIN:STANDARD
TZOFFSETFROM:+0100
TZOFFSETTO:+0000
TZNAME:GMT
DTSTART:20261025T010000
END:STANDARD
END:VTIMEZONE
BEGIN:VEVENT
DTSTART;VALUE=DATE:20260204
DTEND;VALUE=DATE:20260205
DTSTAMP:20260425T113150
CREATED:20251110T155823Z
LAST-MODIFIED:20251110T155823Z
UID:3078-1770163200-1770249599@curvelearning.org.uk
SUMMARY:Level 3 Moving and Handling - Train The Trainer (Video)
DESCRIPTION:
URL:https://curvelearning.org.uk/event/level-3-moving-and-handling-train-the-trainer-video-74/
LOCATION:Microsoft Teams
ORGANIZER;CN="Curve Learning and Development":MAILTO:contactcurve@curvelearning.org.uk
END:VEVENT
BEGIN:VEVENT
DTSTART;VALUE=DATE:20260209
DTEND;VALUE=DATE:20260210
DTSTAMP:20260425T113150
CREATED:20251110T160148Z
LAST-MODIFIED:20251110T160148Z
UID:3080-1770595200-1770681599@curvelearning.org.uk
SUMMARY:Level 3 First Aid - Train The Trainer (Video)
DESCRIPTION:
URL:https://curvelearning.org.uk/event/level-3-first-aid-train-the-trainer-video-33/
LOCATION:Microsoft Teams
ORGANIZER;CN="Curve Learning and Development":MAILTO:contactcurve@curvelearning.org.uk
END:VEVENT
BEGIN:VEVENT
DTSTART;VALUE=DATE:20260210
DTEND;VALUE=DATE:20260211
DTSTAMP:20260425T113150
CREATED:20251110T160347Z
LAST-MODIFIED:20251110T160347Z
UID:3082-1770681600-1770767999@curvelearning.org.uk
SUMMARY:Level 3 Medication - Train The Trainer (Video)
DESCRIPTION:Level 3 Train The Trainer – Medication (Video)
URL:https://curvelearning.org.uk/event/level-3-medication-train-the-trainer-video-38/
LOCATION:Microsoft Teams
ORGANIZER;CN="Curve Learning and Development":MAILTO:contactcurve@curvelearning.org.uk
END:VEVENT
BEGIN:VEVENT
DTSTART;VALUE=DATE:20260211
DTEND;VALUE=DATE:20260212
DTSTAMP:20260425T113150
CREATED:20251110T160501Z
LAST-MODIFIED:20251110T160501Z
UID:3084-1770768000-1770854399@curvelearning.org.uk
SUMMARY:Level 3 Moving and Handling - Train The Trainer (Video)
DESCRIPTION:
URL:https://curvelearning.org.uk/event/level-3-moving-and-handling-train-the-trainer-video-75/
LOCATION:Microsoft Teams
ORGANIZER;CN="Curve Learning and Development":MAILTO:contactcurve@curvelearning.org.uk
END:VEVENT
BEGIN:VEVENT
DTSTART;VALUE=DATE:20260212
DTEND;VALUE=DATE:20260213
DTSTAMP:20260425T113150
CREATED:20251110T160715Z
LAST-MODIFIED:20251110T160715Z
UID:3086-1770854400-1770940799@curvelearning.org.uk
SUMMARY:Level 3 Dementia Awareness - Train The Trainer (Video) 3.5
DESCRIPTION:
URL:https://curvelearning.org.uk/event/level-3-dementia-awareness-train-the-trainer-video-3-5-7/
LOCATION:Microsoft Teams
ORGANIZER;CN="Curve Learning and Development":MAILTO:contactcurve@curvelearning.org.uk
END:VEVENT
BEGIN:VEVENT
DTSTART;VALUE=DATE:20260212
DTEND;VALUE=DATE:20260213
DTSTAMP:20260425T113150
CREATED:20251110T161426Z
LAST-MODIFIED:20251110T161426Z
UID:3088-1770854400-1770940799@curvelearning.org.uk
SUMMARY:Level 3 Moving and Handling - Train The Trainer
DESCRIPTION:
URL:https://curvelearning.org.uk/event/level-3-moving-and-handling-train-the-trainer-19/
LOCATION:Bridge House\, Bridge House\, Bridge Rd\, Horbury\, Wakefield\, West Yorkshire\, WF4 5NN\, United Kingdom
ORGANIZER;CN="Curve Learning and Development":MAILTO:contactcurve@curvelearning.org.uk
END:VEVENT
BEGIN:VEVENT
DTSTART;VALUE=DATE:20260212
DTEND;VALUE=DATE:20260213
DTSTAMP:20260425T113150
CREATED:20251110T161622Z
LAST-MODIFIED:20251110T161622Z
UID:3090-1770854400-1770940799@curvelearning.org.uk
SUMMARY:Level 3 Fire Warden & Fire Safety - Train The Trainer (Video) 3.5
DESCRIPTION:
URL:https://curvelearning.org.uk/event/level-3-fire-warden-fire-safety-train-the-trainer-video-3-5-15/
LOCATION:Microsoft Teams
ORGANIZER;CN="Curve Learning and Development":MAILTO:contactcurve@curvelearning.org.uk
END:VEVENT
BEGIN:VEVENT
DTSTART;VALUE=DATE:20260217
DTEND;VALUE=DATE:20260218
DTSTAMP:20260425T113150
CREATED:20251110T162116Z
LAST-MODIFIED:20251110T162116Z
UID:3092-1771286400-1771372799@curvelearning.org.uk
SUMMARY:Level 3 Safeguarding Adults - Train The Trainer (Video) 3.5
DESCRIPTION:
URL:https://curvelearning.org.uk/event/level-3-safeguarding-adults-train-the-trainer-video-3-5-11/
LOCATION:Microsoft Teams
ORGANIZER;CN="Curve Learning and Development":MAILTO:contactcurve@curvelearning.org.uk
END:VEVENT
BEGIN:VEVENT
DTSTART;VALUE=DATE:20260217
DTEND;VALUE=DATE:20260218
DTSTAMP:20260425T113150
CREATED:20251110T165234Z
LAST-MODIFIED:20251110T165234Z
UID:3094-1771286400-1771372799@curvelearning.org.uk
SUMMARY:Level 3 Food Hygiene - Train The Trainer (Video) 3.5
DESCRIPTION:
URL:https://curvelearning.org.uk/event/level-3-food-hygiene-train-the-trainer-video-3-5-6/
LOCATION:Microsoft Teams
ORGANIZER;CN="Curve Learning and Development":MAILTO:contactcurve@curvelearning.org.uk
END:VEVENT
BEGIN:VEVENT
DTSTART;VALUE=DATE:20260220
DTEND;VALUE=DATE:20260221
DTSTAMP:20260425T113150
CREATED:20251111T102146Z
LAST-MODIFIED:20251111T102146Z
UID:3096-1771545600-1771631999@curvelearning.org.uk
SUMMARY:Level 3 Medication - Train The Trainer (Video)
DESCRIPTION:
URL:https://curvelearning.org.uk/event/level-3-medication-train-the-trainer-video-39/
LOCATION:Microsoft Teams
ORGANIZER;CN="Curve Learning and Development":MAILTO:contactcurve@curvelearning.org.uk
END:VEVENT
BEGIN:VEVENT
DTSTART;VALUE=DATE:20260226
DTEND;VALUE=DATE:20260227
DTSTAMP:20260425T113150
CREATED:20251111T102249Z
LAST-MODIFIED:20251111T102249Z
UID:3098-1772064000-1772150399@curvelearning.org.uk
SUMMARY:Level 3 Moving and Handling - Train The Trainer (Video)
DESCRIPTION:
URL:https://curvelearning.org.uk/event/level-3-moving-and-handling-train-the-trainer-video-76/
LOCATION:Microsoft Teams
ORGANIZER;CN="Curve Learning and Development":MAILTO:contactcurve@curvelearning.org.uk
END:VEVENT
BEGIN:VEVENT
DTSTART;VALUE=DATE:20260227
DTEND;VALUE=DATE:20260228
DTSTAMP:20260425T113150
CREATED:20251111T102519Z
LAST-MODIFIED:20251111T102519Z
UID:3100-1772150400-1772236799@curvelearning.org.uk
SUMMARY:Level 3 Autism - Train The Trainer
DESCRIPTION:
URL:https://curvelearning.org.uk/event/level-3-autism-train-the-trainer-8/
LOCATION:Bridge House\, Bridge House\, Bridge Rd\, Horbury\, Wakefield\, West Yorkshire\, WF4 5NN\, United Kingdom
ORGANIZER;CN="Curve Learning and Development":MAILTO:contactcurve@curvelearning.org.uk
END:VEVENT
BEGIN:VEVENT
DTSTART;VALUE=DATE:20260227
DTEND;VALUE=DATE:20260228
DTSTAMP:20260425T113150
CREATED:20251111T102706Z
LAST-MODIFIED:20251111T102706Z
UID:3102-1772150400-1772236799@curvelearning.org.uk
SUMMARY:Level 3 Supporting Individuals with Learning Disabilities - Train the Trainer
DESCRIPTION:
URL:https://curvelearning.org.uk/event/level-3-supporting-individuals-with-learning-disabilities-train-the-trainer-8/
LOCATION:Bridge House\, Bridge House\, Bridge Rd\, Horbury\, Wakefield\, West Yorkshire\, WF4 5NN\, United Kingdom
ORGANIZER;CN="Curve Learning and Development":MAILTO:contactcurve@curvelearning.org.uk
END:VEVENT
END:VCALENDAR