BEGIN:VCALENDAR
VERSION:2.0
PRODID:-//Curve Learning &amp; Development - ECPv6.6.4.2//NONSGML v1.0//EN
CALSCALE:GREGORIAN
METHOD:PUBLISH
X-WR-CALNAME:Curve Learning &amp; Development
X-ORIGINAL-URL:https://curvelearning.org.uk
X-WR-CALDESC:Events for Curve Learning &amp; Development
REFRESH-INTERVAL;VALUE=DURATION:PT1H
X-Robots-Tag:noindex
X-PUBLISHED-TTL:PT1H
BEGIN:VTIMEZONE
TZID:Europe/London
BEGIN:DAYLIGHT
TZOFFSETFROM:+0000
TZOFFSETTO:+0100
TZNAME:BST
DTSTART:20250330T010000
END:DAYLIGHT
BEGIN:STANDARD
TZOFFSETFROM:+0100
TZOFFSETTO:+0000
TZNAME:GMT
DTSTART:20251026T010000
END:STANDARD
END:VTIMEZONE
BEGIN:VEVENT
DTSTART;VALUE=DATE:20251120
DTEND;VALUE=DATE:20251121
DTSTAMP:20260425T231506
CREATED:20251110T134512Z
LAST-MODIFIED:20251110T134512Z
UID:3028-1763596800-1763683199@curvelearning.org.uk
SUMMARY:Level 3 Safeguarding for Managers (Video)
DESCRIPTION:
URL:https://curvelearning.org.uk/event/level-3-safeguarding-for-managers-video-5/
LOCATION:Microsoft Teams
ORGANIZER;CN="Curve Learning and Development":MAILTO:contactcurve@curvelearning.org.uk
END:VEVENT
BEGIN:VEVENT
DTSTART;VALUE=DATE:20251120
DTEND;VALUE=DATE:20251121
DTSTAMP:20260425T231506
CREATED:20241023T143945Z
LAST-MODIFIED:20241023T143945Z
UID:2211-1763596800-1763683199@curvelearning.org.uk
SUMMARY:Level 3 Supervision and Appraisal (Managers) (Video)
DESCRIPTION:
URL:https://curvelearning.org.uk/event/level-3-supervision-and-appraisal-managers-video-6/
LOCATION:Microsoft Teams
ORGANIZER;CN="Curve Learning and Development":MAILTO:contactcurve@curvelearning.org.uk
END:VEVENT
BEGIN:VEVENT
DTSTART;VALUE=DATE:20251119
DTEND;VALUE=DATE:20251120
DTSTAMP:20260425T231506
CREATED:20241023T143629Z
LAST-MODIFIED:20241023T143629Z
UID:2209-1763510400-1763596799@curvelearning.org.uk
SUMMARY:Level 3 First Aid - Train The Trainer
DESCRIPTION:
URL:https://curvelearning.org.uk/event/level-3-first-aid-train-the-trainer-10/
LOCATION:Bridge House\, Bridge House\, Bridge Rd\, Horbury\, Wakefield\, West Yorkshire\, WF4 5NN\, United Kingdom
ORGANIZER;CN="Curve Learning and Development":MAILTO:contactcurve@curvelearning.org.uk
END:VEVENT
BEGIN:VEVENT
DTSTART;VALUE=DATE:20251118
DTEND;VALUE=DATE:20251119
DTSTAMP:20260425T231506
CREATED:20251110T132441Z
LAST-MODIFIED:20251110T132441Z
UID:3025-1763424000-1763510399@curvelearning.org.uk
SUMMARY:Level 3 Moving and Handling - Train The Trainer
DESCRIPTION:
URL:https://curvelearning.org.uk/event/level-3-moving-and-handling-train-the-trainer-18/
LOCATION:Bridge House\, Bridge House\, Bridge Rd\, Horbury\, Wakefield\, West Yorkshire\, WF4 5NN\, United Kingdom
ORGANIZER;CN="Curve Learning and Development":MAILTO:contactcurve@curvelearning.org.uk
END:VEVENT
BEGIN:VEVENT
DTSTART;VALUE=DATE:20251118
DTEND;VALUE=DATE:20251119
DTSTAMP:20260425T231506
CREATED:20241023T143517Z
LAST-MODIFIED:20241023T143517Z
UID:2207-1763424000-1763510399@curvelearning.org.uk
SUMMARY:Level 3 Moving and Handling - Train The Trainer (Video)
DESCRIPTION:
URL:https://curvelearning.org.uk/event/level-3-moving-and-handling-train-the-trainer-video-68/
LOCATION:Microsoft Teams
ORGANIZER;CN="Curve Learning and Development":MAILTO:contactcurve@curvelearning.org.uk
END:VEVENT
BEGIN:VEVENT
DTSTART;VALUE=DATE:20251113
DTEND;VALUE=DATE:20251114
DTSTAMP:20260425T231506
CREATED:20241023T143354Z
LAST-MODIFIED:20241023T143354Z
UID:2205-1762992000-1763078399@curvelearning.org.uk
SUMMARY:Level 3 Medication - Train The Trainer (Video)
DESCRIPTION:
URL:https://curvelearning.org.uk/event/level-3-medication-train-the-trainer-video-32/
LOCATION:Microsoft Teams
ORGANIZER;CN="Curve Learning and Development":MAILTO:contactcurve@curvelearning.org.uk
END:VEVENT
BEGIN:VEVENT
DTSTART;VALUE=DATE:20251112
DTEND;VALUE=DATE:20251113
DTSTAMP:20260425T231506
CREATED:20241023T143236Z
LAST-MODIFIED:20241023T143236Z
UID:2203-1762905600-1762991999@curvelearning.org.uk
SUMMARY:Level 3 Autism - Train The Trainer
DESCRIPTION:
URL:https://curvelearning.org.uk/event/level-3-autism-train-the-trainer-7/
LOCATION:Bridge House\, Bridge House\, Bridge Rd\, Horbury\, Wakefield\, West Yorkshire\, WF4 5NN\, United Kingdom
ORGANIZER;CN="Curve Learning and Development":MAILTO:contactcurve@curvelearning.org.uk
END:VEVENT
BEGIN:VEVENT
DTSTART;VALUE=DATE:20251112
DTEND;VALUE=DATE:20251113
DTSTAMP:20260425T231506
CREATED:20241023T143129Z
LAST-MODIFIED:20241023T143129Z
UID:2201-1762905600-1762991999@curvelearning.org.uk
SUMMARY:Level 3 Supporting Individuals with Learning Disabilities - Train the Trainer
DESCRIPTION:
URL:https://curvelearning.org.uk/event/level-3-supporting-individuals-with-learning-disabilities-train-the-trainer-7/
LOCATION:Bridge House\, Bridge House\, Bridge Rd\, Horbury\, Wakefield\, West Yorkshire\, WF4 5NN\, United Kingdom
ORGANIZER;CN="Curve Learning and Development":MAILTO:contactcurve@curvelearning.org.uk
END:VEVENT
BEGIN:VEVENT
DTSTART;VALUE=DATE:20251111
DTEND;VALUE=DATE:20251112
DTSTAMP:20260425T231506
CREATED:20241023T142846Z
LAST-MODIFIED:20241023T142846Z
UID:2197-1762819200-1762905599@curvelearning.org.uk
SUMMARY:Level 3 Mental Capacity Act and DoLS (Managers) (Video)
DESCRIPTION:
URL:https://curvelearning.org.uk/event/level-3-mental-capacity-act-and-dols-managers-video-5/
LOCATION:Microsoft Teams
ORGANIZER;CN="Curve Learning and Development":MAILTO:contactcurve@curvelearning.org.uk
END:VEVENT
BEGIN:VEVENT
DTSTART;VALUE=DATE:20251111
DTEND;VALUE=DATE:20251112
DTSTAMP:20260425T231506
CREATED:20241023T142740Z
LAST-MODIFIED:20241023T142740Z
UID:2195-1762819200-1762905599@curvelearning.org.uk
SUMMARY:Level 3 Moving and Handling - Train The Trainer
DESCRIPTION:
URL:https://curvelearning.org.uk/event/level-3-moving-and-handling-train-the-trainer-16/
LOCATION:Bridge House\, Bridge House\, Bridge Rd\, Horbury\, Wakefield\, West Yorkshire\, WF4 5NN\, United Kingdom
ORGANIZER;CN="Curve Learning and Development":MAILTO:contactcurve@curvelearning.org.uk
END:VEVENT
BEGIN:VEVENT
DTSTART;VALUE=DATE:20251110
DTEND;VALUE=DATE:20251111
DTSTAMP:20260425T231506
CREATED:20241023T154220Z
LAST-MODIFIED:20241023T154220Z
UID:2232-1762732800-1762819199@curvelearning.org.uk
SUMMARY:Level 3 Moving and Handling - Train The Trainer (Video)
DESCRIPTION:
URL:https://curvelearning.org.uk/event/level-3-moving-and-handling-train-the-trainer-video-71/
LOCATION:Microsoft Teams
ORGANIZER;CN="Curve Learning and Development":MAILTO:contactcurve@curvelearning.org.uk
END:VEVENT
BEGIN:VEVENT
DTSTART;VALUE=DATE:20251106
DTEND;VALUE=DATE:20251107
DTSTAMP:20260425T231506
CREATED:20241023T142609Z
LAST-MODIFIED:20241023T142609Z
UID:2193-1762387200-1762473599@curvelearning.org.uk
SUMMARY:Level 3 Moving and Handling - Train The Trainer (Video)
DESCRIPTION:
URL:https://curvelearning.org.uk/event/level-3-moving-and-handling-train-the-trainer-video-66/
LOCATION:Microsoft Teams
ORGANIZER;CN="Curve Learning and Development":MAILTO:contactcurve@curvelearning.org.uk
END:VEVENT
BEGIN:VEVENT
DTSTART;VALUE=DATE:20251105
DTEND;VALUE=DATE:20251106
DTSTAMP:20260425T231506
CREATED:20241022T093234Z
LAST-MODIFIED:20241022T093234Z
UID:2188-1762300800-1762387199@curvelearning.org.uk
SUMMARY:Level 3 Medication with Practical Competency
DESCRIPTION:
URL:https://curvelearning.org.uk/event/level-3-medication-with-practical-competency-4/
LOCATION:Bridge House\, Bridge House\, Bridge Rd\, Horbury\, Wakefield\, West Yorkshire\, WF4 5NN\, United Kingdom
ORGANIZER;CN="Curve Learning and Development":MAILTO:contactcurve@curvelearning.org.uk
END:VEVENT
BEGIN:VEVENT
DTSTART;VALUE=DATE:20251104
DTEND;VALUE=DATE:20251105
DTSTAMP:20260425T231506
CREATED:20241022T093130Z
LAST-MODIFIED:20241022T093130Z
UID:2185-1762214400-1762300799@curvelearning.org.uk
SUMMARY:Level 3 Pressure Area Care - Train The Trainer (Video) 3.5
DESCRIPTION:
URL:https://curvelearning.org.uk/event/level-3-pressure-area-care-train-the-trainer-video-3-5-2/
LOCATION:Microsoft Teams
ORGANIZER;CN="Curve Learning and Development":MAILTO:contactcurve@curvelearning.org.uk
END:VEVENT
BEGIN:VEVENT
DTSTART;VALUE=DATE:20251104
DTEND;VALUE=DATE:20251105
DTSTAMP:20260425T231506
CREATED:20241022T092907Z
LAST-MODIFIED:20241022T092907Z
UID:2183-1762214400-1762300799@curvelearning.org.uk
SUMMARY:Level 3 Fire Warden & Fire Safety - Train The Trainer (Video) 3.5
DESCRIPTION:
URL:https://curvelearning.org.uk/event/level-3-fire-warden-fire-safety-train-the-trainer-video-3-5-13/
LOCATION:Microsoft Teams
ORGANIZER;CN="Curve Learning and Development":MAILTO:contactcurve@curvelearning.org.uk
END:VEVENT
BEGIN:VEVENT
DTSTART;VALUE=DATE:20251103
DTEND;VALUE=DATE:20251104
DTSTAMP:20260425T231506
CREATED:20241022T092552Z
LAST-MODIFIED:20241022T092552Z
UID:2181-1762128000-1762214399@curvelearning.org.uk
SUMMARY:Level 3 First Aid - Train The Trainer (Video)
DESCRIPTION:
URL:https://curvelearning.org.uk/event/level-3-first-aid-train-the-trainer-video-29/
LOCATION:Microsoft Teams
ORGANIZER;CN="Curve Learning and Development":MAILTO:contactcurve@curvelearning.org.uk
END:VEVENT
BEGIN:VEVENT
DTSTART;VALUE=DATE:20251029
DTEND;VALUE=DATE:20251030
DTSTAMP:20260425T231506
CREATED:20241021T152417Z
LAST-MODIFIED:20241021T152417Z
UID:2177-1761696000-1761782399@curvelearning.org.uk
SUMMARY:Level 3 Medication - Train The Trainer (Video)
DESCRIPTION:
URL:https://curvelearning.org.uk/event/level-3-medication-train-the-trainer-video-31/
LOCATION:Microsoft Teams
ORGANIZER;CN="Curve Learning and Development":MAILTO:contactcurve@curvelearning.org.uk
END:VEVENT
BEGIN:VEVENT
DTSTART;VALUE=DATE:20251028
DTEND;VALUE=DATE:20251029
DTSTAMP:20260425T231506
CREATED:20241021T105443Z
LAST-MODIFIED:20241021T105443Z
UID:2175-1761609600-1761695999@curvelearning.org.uk
SUMMARY:Level 3 Moving and Handling - Train The Trainer (Video)
DESCRIPTION:
URL:https://curvelearning.org.uk/event/level-3-moving-and-handling-train-the-trainer-video-65/
LOCATION:Microsoft Teams
ORGANIZER;CN="Curve Learning and Development":MAILTO:contactcurve@curvelearning.org.uk
END:VEVENT
BEGIN:VEVENT
DTSTART;VALUE=DATE:20251023
DTEND;VALUE=DATE:20251024
DTSTAMP:20260425T231506
CREATED:20241021T105333Z
LAST-MODIFIED:20241021T105333Z
UID:2173-1761177600-1761263999@curvelearning.org.uk
SUMMARY:Level 3 Moving and Handling - Train The Trainer
DESCRIPTION:
URL:https://curvelearning.org.uk/event/level-3-moving-and-handling-train-the-trainer-15/
LOCATION:Bridge House\, Bridge House\, Bridge Rd\, Horbury\, Wakefield\, West Yorkshire\, WF4 5NN\, United Kingdom
ORGANIZER;CN="Curve Learning and Development":MAILTO:contactcurve@curvelearning.org.uk
END:VEVENT
BEGIN:VEVENT
DTSTART;VALUE=DATE:20251020
DTEND;VALUE=DATE:20251021
DTSTAMP:20260425T231506
CREATED:20241021T105214Z
LAST-MODIFIED:20241021T105214Z
UID:2170-1760918400-1761004799@curvelearning.org.uk
SUMMARY:Level 3 Moving and Handling - Train The Trainer (Video)
DESCRIPTION:
URL:https://curvelearning.org.uk/event/level-3-moving-and-handling-train-the-trainer-video-64/
LOCATION:Microsoft Teams
ORGANIZER;CN="Curve Learning and Development":MAILTO:contactcurve@curvelearning.org.uk
END:VEVENT
BEGIN:VEVENT
DTSTART;VALUE=DATE:20251016
DTEND;VALUE=DATE:20251017
DTSTAMP:20260425T231506
CREATED:20241021T105052Z
LAST-MODIFIED:20241021T105052Z
UID:2167-1760572800-1760659199@curvelearning.org.uk
SUMMARY:Level 3 Equality and Diversity - Train The Trainer (Video) 3.5
DESCRIPTION:
URL:https://curvelearning.org.uk/event/level-3-equality-and-diversity-train-the-trainer-video-3-5-4/
LOCATION:Microsoft Teams
ORGANIZER;CN="Curve Learning and Development":MAILTO:contactcurve@curvelearning.org.uk
END:VEVENT
BEGIN:VEVENT
DTSTART;VALUE=DATE:20251016
DTEND;VALUE=DATE:20251017
DTSTAMP:20260425T231506
CREATED:20241021T104915Z
LAST-MODIFIED:20241021T104915Z
UID:2165-1760572800-1760659199@curvelearning.org.uk
SUMMARY:Level 3 Mental Health Awareness - Train The Trainer (video)
DESCRIPTION:
URL:https://curvelearning.org.uk/event/level-3-mental-health-awareness-train-the-trainer-video-2/
LOCATION:Microsoft Teams
ORGANIZER;CN="Curve Learning and Development":MAILTO:contactcurve@curvelearning.org.uk
END:VEVENT
BEGIN:VEVENT
DTSTART;VALUE=DATE:20251015
DTEND;VALUE=DATE:20251016
DTSTAMP:20260425T231506
CREATED:20241021T104804Z
LAST-MODIFIED:20241021T104804Z
UID:2163-1760486400-1760572799@curvelearning.org.uk
SUMMARY:Level 3 Food Hygiene - Train The Trainer (Video) 3.5
DESCRIPTION:
URL:https://curvelearning.org.uk/event/level-3-food-hygiene-train-the-trainer-video-3-5-5/
LOCATION:Microsoft Teams
ORGANIZER;CN="Curve Learning and Development":MAILTO:contactcurve@curvelearning.org.uk
END:VEVENT
BEGIN:VEVENT
DTSTART;VALUE=DATE:20251015
DTEND;VALUE=DATE:20251016
DTSTAMP:20260425T231506
CREATED:20241021T104644Z
LAST-MODIFIED:20241021T104644Z
UID:2161-1760486400-1760572799@curvelearning.org.uk
SUMMARY:Level 3 Health and Safety - Train The Trainer (Video) 3.5
DESCRIPTION:
URL:https://curvelearning.org.uk/event/level-3-health-and-safety-train-the-trainer-video-3-5-3/
LOCATION:Microsoft Teams
ORGANIZER;CN="Curve Learning and Development":MAILTO:contactcurve@curvelearning.org.uk
END:VEVENT
BEGIN:VEVENT
DTSTART;VALUE=DATE:20251009
DTEND;VALUE=DATE:20251010
DTSTAMP:20260425T231506
CREATED:20241021T104519Z
LAST-MODIFIED:20241021T104519Z
UID:2159-1759968000-1760054399@curvelearning.org.uk
SUMMARY:Level 3 Moving and Handling - Train The Trainer (Video)
DESCRIPTION:
URL:https://curvelearning.org.uk/event/level-3-moving-and-handling-train-the-trainer-video-63/
LOCATION:Microsoft Teams
ORGANIZER;CN="Curve Learning and Development":MAILTO:contactcurve@curvelearning.org.uk
END:VEVENT
BEGIN:VEVENT
DTSTART;VALUE=DATE:20251007
DTEND;VALUE=DATE:20251008
DTSTAMP:20260425T231506
CREATED:20241021T104410Z
LAST-MODIFIED:20241021T104410Z
UID:2157-1759795200-1759881599@curvelearning.org.uk
SUMMARY:Level 3 First Aid - Train The Trainer (Video)
DESCRIPTION:
URL:https://curvelearning.org.uk/event/level-3-first-aid-train-the-trainer-video-28/
LOCATION:Microsoft Teams
ORGANIZER;CN="Curve Learning and Development":MAILTO:contactcurve@curvelearning.org.uk
END:VEVENT
BEGIN:VEVENT
DTSTART;VALUE=DATE:20251003
DTEND;VALUE=DATE:20251004
DTSTAMP:20260425T231506
CREATED:20241021T104237Z
LAST-MODIFIED:20241021T104237Z
UID:2155-1759449600-1759535999@curvelearning.org.uk
SUMMARY:Level 3 Medication - Train The Trainer (Video)
DESCRIPTION:
URL:https://curvelearning.org.uk/event/level-3-medication-train-the-trainer-video-30/
LOCATION:Microsoft Teams
ORGANIZER;CN="Curve Learning and Development":MAILTO:contactcurve@curvelearning.org.uk
END:VEVENT
BEGIN:VEVENT
DTSTART;VALUE=DATE:20251002
DTEND;VALUE=DATE:20251003
DTSTAMP:20260425T231506
CREATED:20241021T101851Z
LAST-MODIFIED:20241021T101851Z
UID:2148-1759363200-1759449599@curvelearning.org.uk
SUMMARY:Level 3 Safeguarding Adults - Train The Trainer (Video) 3.5
DESCRIPTION:
URL:https://curvelearning.org.uk/event/level-3-safeguarding-adults-train-the-trainer-video-3-5-9/
LOCATION:Microsoft Teams
ORGANIZER;CN="Curve Learning and Development":MAILTO:contactcurve@curvelearning.org.uk
END:VEVENT
BEGIN:VEVENT
DTSTART;VALUE=DATE:20251002
DTEND;VALUE=DATE:20251003
DTSTAMP:20260425T231506
CREATED:20241021T101728Z
LAST-MODIFIED:20241021T101728Z
UID:2146-1759363200-1759449599@curvelearning.org.uk
SUMMARY:Level 3 Mental Capacity Act - Train The Trainer (Video) 3.5
DESCRIPTION:
URL:https://curvelearning.org.uk/event/level-3-mental-capacity-act-train-the-trainer-video-3-5-8/
LOCATION:Microsoft Teams
ORGANIZER;CN="Curve Learning and Development":MAILTO:contactcurve@curvelearning.org.uk
END:VEVENT
BEGIN:VEVENT
DTSTART;VALUE=DATE:20251001
DTEND;VALUE=DATE:20251002
DTSTAMP:20260425T231506
CREATED:20241021T101555Z
LAST-MODIFIED:20241021T101555Z
UID:2144-1759276800-1759363199@curvelearning.org.uk
SUMMARY:Level 3 Moving and Handling - Train The Trainer (Video)
DESCRIPTION:
URL:https://curvelearning.org.uk/event/level-3-moving-and-handling-train-the-trainer-video-62/
LOCATION:Microsoft Teams
ORGANIZER;CN="Curve Learning and Development":MAILTO:contactcurve@curvelearning.org.uk
END:VEVENT
END:VCALENDAR