BEGIN:VCALENDAR
VERSION:2.0
PRODID:-//Curve Learning &amp; Development - ECPv6.6.4.2//NONSGML v1.0//EN
CALSCALE:GREGORIAN
METHOD:PUBLISH
X-WR-CALNAME:Curve Learning &amp; Development
X-ORIGINAL-URL:https://curvelearning.org.uk
X-WR-CALDESC:Events for Curve Learning &amp; Development
REFRESH-INTERVAL;VALUE=DURATION:PT1H
X-Robots-Tag:noindex
X-PUBLISHED-TTL:PT1H
BEGIN:VTIMEZONE
TZID:Europe/London
BEGIN:DAYLIGHT
TZOFFSETFROM:+0000
TZOFFSETTO:+0100
TZNAME:BST
DTSTART:20250330T010000
END:DAYLIGHT
BEGIN:STANDARD
TZOFFSETFROM:+0100
TZOFFSETTO:+0000
TZNAME:GMT
DTSTART:20251026T010000
END:STANDARD
END:VTIMEZONE
BEGIN:VEVENT
DTSTART;VALUE=DATE:20250730
DTEND;VALUE=DATE:20250731
DTSTAMP:20260426T050019
CREATED:20241017T134029Z
LAST-MODIFIED:20241017T134029Z
UID:2060-1753833600-1753919999@curvelearning.org.uk
SUMMARY:Level 3 Moving and Handling - Train The Trainer (Video)
DESCRIPTION:
URL:https://curvelearning.org.uk/event/level-3-moving-and-handling-train-the-trainer-video-53/
LOCATION:Microsoft Teams
ORGANIZER;CN="Curve Learning and Development":MAILTO:contactcurve@curvelearning.org.uk
END:VEVENT
BEGIN:VEVENT
DTSTART;VALUE=DATE:20250729
DTEND;VALUE=DATE:20250730
DTSTAMP:20260426T050019
CREATED:20241017T133745Z
LAST-MODIFIED:20241017T133745Z
UID:2058-1753747200-1753833599@curvelearning.org.uk
SUMMARY:Level 3 First Aid - Train The Trainer (Video)
DESCRIPTION:
URL:https://curvelearning.org.uk/event/level-3-first-aid-train-the-trainer-video-23/
LOCATION:Microsoft Teams
ORGANIZER;CN="Curve Learning and Development":MAILTO:contactcurve@curvelearning.org.uk
END:VEVENT
BEGIN:VEVENT
DTSTART;VALUE=DATE:20250723
DTEND;VALUE=DATE:20250724
DTSTAMP:20260426T050019
CREATED:20241017T100118Z
LAST-MODIFIED:20241017T100118Z
UID:2056-1753228800-1753315199@curvelearning.org.uk
SUMMARY:Level 3 Moving and Handling - Train The Trainer (Video)
DESCRIPTION:
URL:https://curvelearning.org.uk/event/level-3-moving-and-handling-train-the-trainer-video-52/
LOCATION:Microsoft Teams
ORGANIZER;CN="Curve Learning and Development":MAILTO:contactcurve@curvelearning.org.uk
END:VEVENT
BEGIN:VEVENT
DTSTART;VALUE=DATE:20250722
DTEND;VALUE=DATE:20250723
DTSTAMP:20260426T050019
CREATED:20241017T100022Z
LAST-MODIFIED:20241017T100022Z
UID:2054-1753142400-1753228799@curvelearning.org.uk
SUMMARY:Level 3 First Aid - Train The Trainer
DESCRIPTION:
URL:https://curvelearning.org.uk/event/level-3-first-aid-train-the-trainer-8/
LOCATION:Bridge House\, Bridge House\, Bridge Rd\, Horbury\, Wakefield\, West Yorkshire\, WF4 5NN\, United Kingdom
ORGANIZER;CN="Curve Learning and Development":MAILTO:contactcurve@curvelearning.org.uk
END:VEVENT
BEGIN:VEVENT
DTSTART;VALUE=DATE:20250717
DTEND;VALUE=DATE:20250718
DTSTAMP:20260426T050019
CREATED:20241017T095918Z
LAST-MODIFIED:20241017T095918Z
UID:2052-1752710400-1752796799@curvelearning.org.uk
SUMMARY:Level 3 Supporting Individuals with Learning Disabilities - Train the Trainer
DESCRIPTION:
URL:https://curvelearning.org.uk/event/level-3-supporting-individuals-with-learning-disabilities-train-the-trainer-5/
LOCATION:Bridge House\, Bridge House\, Bridge Rd\, Horbury\, Wakefield\, West Yorkshire\, WF4 5NN\, United Kingdom
ORGANIZER;CN="Curve Learning and Development":MAILTO:contactcurve@curvelearning.org.uk
END:VEVENT
BEGIN:VEVENT
DTSTART;VALUE=DATE:20250717
DTEND;VALUE=DATE:20250718
DTSTAMP:20260426T050019
CREATED:20241017T095813Z
LAST-MODIFIED:20241017T095813Z
UID:2050-1752710400-1752796799@curvelearning.org.uk
SUMMARY:Level 3 Autism - Train The Trainer
DESCRIPTION:Level 3 Train The Trainer- Autism
URL:https://curvelearning.org.uk/event/level-3-autism-train-the-trainer-5/
LOCATION:Bridge House\, Bridge House\, Bridge Rd\, Horbury\, Wakefield\, West Yorkshire\, WF4 5NN\, United Kingdom
ORGANIZER;CN="Curve Learning and Development":MAILTO:contactcurve@curvelearning.org.uk
END:VEVENT
BEGIN:VEVENT
DTSTART;VALUE=DATE:20250716
DTEND;VALUE=DATE:20250717
DTSTAMP:20260426T050019
CREATED:20241017T095724Z
LAST-MODIFIED:20241017T095724Z
UID:2048-1752624000-1752710399@curvelearning.org.uk
SUMMARY:First Aid at Work
DESCRIPTION:
URL:https://curvelearning.org.uk/event/first-aid-at-work-14/
LOCATION:Bridge House\, Bridge House\, Bridge Rd\, Horbury\, Wakefield\, West Yorkshire\, WF4 5NN\, United Kingdom
ORGANIZER;CN="Curve Learning and Development":MAILTO:contactcurve@curvelearning.org.uk
END:VEVENT
BEGIN:VEVENT
DTSTART;VALUE=DATE:20250715
DTEND;VALUE=DATE:20250716
DTSTAMP:20260426T050019
CREATED:20241017T094218Z
LAST-MODIFIED:20241017T094218Z
UID:2046-1752537600-1752623999@curvelearning.org.uk
SUMMARY:First Aid at Work
DESCRIPTION:
URL:https://curvelearning.org.uk/event/first-aid-at-work-13/
LOCATION:Bridge House\, Bridge House\, Bridge Rd\, Horbury\, Wakefield\, West Yorkshire\, WF4 5NN\, United Kingdom
ORGANIZER;CN="Curve Learning and Development":MAILTO:contactcurve@curvelearning.org.uk
END:VEVENT
BEGIN:VEVENT
DTSTART;VALUE=DATE:20250710
DTEND;VALUE=DATE:20250711
DTSTAMP:20260426T050019
CREATED:20241017T094118Z
LAST-MODIFIED:20241017T094118Z
UID:2044-1752105600-1752191999@curvelearning.org.uk
SUMMARY:Level 3 Equality and Diversity - Train The Trainer (Video) 3.5
DESCRIPTION:
URL:https://curvelearning.org.uk/event/level-3-equality-and-diversity-train-the-trainer-video-3-5-3/
LOCATION:Microsoft Teams
ORGANIZER;CN="Curve Learning and Development":MAILTO:contactcurve@curvelearning.org.uk
END:VEVENT
BEGIN:VEVENT
DTSTART;VALUE=DATE:20250710
DTEND;VALUE=DATE:20250711
DTSTAMP:20260426T050019
CREATED:20241017T094008Z
LAST-MODIFIED:20241017T094008Z
UID:2042-1752105600-1752191999@curvelearning.org.uk
SUMMARY:Level 3 Mental Capacity Act - Train The Trainer (Video) 3.5
DESCRIPTION:
URL:https://curvelearning.org.uk/event/level-3-mental-capacity-act-train-the-trainer-video-3-5-7/
LOCATION:Microsoft Teams
ORGANIZER;CN="Curve Learning and Development":MAILTO:contactcurve@curvelearning.org.uk
END:VEVENT
BEGIN:VEVENT
DTSTART;VALUE=DATE:20250709
DTEND;VALUE=DATE:20250710
DTSTAMP:20260426T050019
CREATED:20241017T093909Z
LAST-MODIFIED:20241017T093909Z
UID:2040-1752019200-1752105599@curvelearning.org.uk
SUMMARY:Level 3 Medication  - Train The Trainer (Video)
DESCRIPTION:
URL:https://curvelearning.org.uk/event/level-3-medication-train-the-trainer-video-24/
LOCATION:Microsoft Teams
ORGANIZER;CN="Curve Learning and Development":MAILTO:contactcurve@curvelearning.org.uk
END:VEVENT
BEGIN:VEVENT
DTSTART;VALUE=DATE:20250708
DTEND;VALUE=DATE:20250709
DTSTAMP:20260426T050019
CREATED:20241017T092958Z
LAST-MODIFIED:20241017T092958Z
UID:2038-1751932800-1752019199@curvelearning.org.uk
SUMMARY:Level 3 Moving and Handling - Train The Trainer (Video)
DESCRIPTION:
URL:https://curvelearning.org.uk/event/level-3-moving-and-handling-train-the-trainer-video-51/
LOCATION:Microsoft Teams
ORGANIZER;CN="Curve Learning and Development":MAILTO:contactcurve@curvelearning.org.uk
END:VEVENT
BEGIN:VEVENT
DTSTART;VALUE=DATE:20250707
DTEND;VALUE=DATE:20250708
DTSTAMP:20260426T050019
CREATED:20241017T092800Z
LAST-MODIFIED:20241017T092800Z
UID:2036-1751846400-1751932799@curvelearning.org.uk
SUMMARY:Level 3 First Aid - Train The Trainer (Video)
DESCRIPTION:Level 3 Train The Trainer – First Aid (Video)
URL:https://curvelearning.org.uk/event/level-3-first-aid-train-the-trainer-video-22/
LOCATION:Microsoft Teams
ORGANIZER;CN="Curve Learning and Development":MAILTO:contactcurve@curvelearning.org.uk
END:VEVENT
BEGIN:VEVENT
DTSTART;VALUE=DATE:20250702
DTEND;VALUE=DATE:20250703
DTSTAMP:20260426T050019
CREATED:20241017T092706Z
LAST-MODIFIED:20241017T092706Z
UID:2034-1751414400-1751500799@curvelearning.org.uk
SUMMARY:Level 3 Moving and Handling - Train The Trainer (Video)
DESCRIPTION:
URL:https://curvelearning.org.uk/event/level-3-moving-and-handling-train-the-trainer-video-50/
LOCATION:Microsoft Teams
ORGANIZER;CN="Curve Learning and Development":MAILTO:contactcurve@curvelearning.org.uk
END:VEVENT
BEGIN:VEVENT
DTSTART;VALUE=DATE:20250701
DTEND;VALUE=DATE:20250702
DTSTAMP:20260426T050019
CREATED:20241017T092547Z
LAST-MODIFIED:20241017T092547Z
UID:2032-1751328000-1751414399@curvelearning.org.uk
SUMMARY:Level 3 Food Hygiene - Train The Trainer (Video) 3.5
DESCRIPTION:
URL:https://curvelearning.org.uk/event/level-3-food-hygiene-train-the-trainer-video-3-5-4/
LOCATION:Microsoft Teams
ORGANIZER;CN="Curve Learning and Development":MAILTO:contactcurve@curvelearning.org.uk
END:VEVENT
BEGIN:VEVENT
DTSTART;VALUE=DATE:20250701
DTEND;VALUE=DATE:20250702
DTSTAMP:20260426T050019
CREATED:20241017T092030Z
LAST-MODIFIED:20241017T092030Z
UID:2030-1751328000-1751414399@curvelearning.org.uk
SUMMARY:Level 3 Fire Warden & Fire Safety - Train The Trainer (Video) 3.5
DESCRIPTION:
URL:https://curvelearning.org.uk/event/level-3-fire-warden-fire-safety-train-the-trainer-video-3-5-11/
LOCATION:Microsoft Teams
ORGANIZER;CN="Curve Learning and Development":MAILTO:contactcurve@curvelearning.org.uk
END:VEVENT
BEGIN:VEVENT
DTSTART;VALUE=DATE:20250630
DTEND;VALUE=DATE:20250701
DTSTAMP:20260426T050019
CREATED:20241017T091846Z
LAST-MODIFIED:20241017T091846Z
UID:2028-1751241600-1751327999@curvelearning.org.uk
SUMMARY:Level 3 First Aid - Train The Trainer (Video)
DESCRIPTION:Level 3 Train The Trainer – First Aid (Video)
URL:https://curvelearning.org.uk/event/level-3-first-aid-train-the-trainer-video-21/
LOCATION:Microsoft Teams
ORGANIZER;CN="Curve Learning and Development":MAILTO:contactcurve@curvelearning.org.uk
END:VEVENT
BEGIN:VEVENT
DTSTART;VALUE=DATE:20250626
DTEND;VALUE=DATE:20250627
DTSTAMP:20260426T050019
CREATED:20241017T091753Z
LAST-MODIFIED:20241017T091753Z
UID:2026-1750896000-1750982399@curvelearning.org.uk
SUMMARY:Level 3 Moving and Handling - Train The Trainer
DESCRIPTION:Level 3 Train The Trainer – Moving and Handling (Office)
URL:https://curvelearning.org.uk/event/level-3-moving-and-handling-train-the-trainer-12/
LOCATION:Bridge House\, Bridge House\, Bridge Rd\, Horbury\, Wakefield\, West Yorkshire\, WF4 5NN\, United Kingdom
ORGANIZER;CN="Curve Learning and Development":MAILTO:contactcurve@curvelearning.org.uk
END:VEVENT
BEGIN:VEVENT
DTSTART;VALUE=DATE:20250625
DTEND;VALUE=DATE:20250626
DTSTAMP:20260426T050019
CREATED:20241017T091703Z
LAST-MODIFIED:20241017T091703Z
UID:2024-1750809600-1750895999@curvelearning.org.uk
SUMMARY:Level 3 Moving and Handling - Train The Trainer (Video)
DESCRIPTION:
URL:https://curvelearning.org.uk/event/level-3-moving-and-handling-train-the-trainer-video-49/
LOCATION:Microsoft Teams
ORGANIZER;CN="Curve Learning and Development":MAILTO:contactcurve@curvelearning.org.uk
END:VEVENT
BEGIN:VEVENT
DTSTART;VALUE=DATE:20250624
DTEND;VALUE=DATE:20250625
DTSTAMP:20260426T050019
CREATED:20241017T091612Z
LAST-MODIFIED:20241017T091612Z
UID:2022-1750723200-1750809599@curvelearning.org.uk
SUMMARY:Level 3 Medication - Train The Trainer (Video)
DESCRIPTION:
URL:https://curvelearning.org.uk/event/level-3-medication-train-the-trainer-video-23/
LOCATION:Microsoft Teams
ORGANIZER;CN="Curve Learning and Development":MAILTO:contactcurve@curvelearning.org.uk
END:VEVENT
BEGIN:VEVENT
DTSTART;VALUE=DATE:20250623
DTEND;VALUE=DATE:20250624
DTSTAMP:20260426T050019
CREATED:20241017T091519Z
LAST-MODIFIED:20241017T091519Z
UID:2020-1750636800-1750723199@curvelearning.org.uk
SUMMARY:Level 3 Dysphagia Awareness - Train the Trainer
DESCRIPTION:
URL:https://curvelearning.org.uk/event/level-3-dysphagia-awareness-train-the-trainer-4/
LOCATION:Bridge House\, Bridge House\, Bridge Rd\, Horbury\, Wakefield\, West Yorkshire\, WF4 5NN\, United Kingdom
ORGANIZER;CN="Curve Learning and Development":MAILTO:contactcurve@curvelearning.org.uk
END:VEVENT
BEGIN:VEVENT
DTSTART;VALUE=DATE:20250623
DTEND;VALUE=DATE:20250624
DTSTAMP:20260426T050019
CREATED:20241017T085144Z
LAST-MODIFIED:20241021T102210Z
UID:2018-1750636800-1750723199@curvelearning.org.uk
SUMMARY:Level 3 Safeguarding Adults Scotland - Train the Trainer
DESCRIPTION:
URL:https://curvelearning.org.uk/event/level-3-safeguarding-adults-scotland-train-the-trainer/
LOCATION:Microsoft Teams
ORGANIZER;CN="Curve Learning and Development":MAILTO:contactcurve@curvelearning.org.uk
END:VEVENT
BEGIN:VEVENT
DTSTART;VALUE=DATE:20250619
DTEND;VALUE=DATE:20250620
DTSTAMP:20260426T050019
CREATED:20241016T153201Z
LAST-MODIFIED:20241016T153201Z
UID:2015-1750291200-1750377599@curvelearning.org.uk
SUMMARY:Level 3 Epilepsy Awareness - Train the Trainer (video)
DESCRIPTION:
URL:https://curvelearning.org.uk/event/level-3-epilepsy-awareness-train-the-trainer-video-2/
LOCATION:Microsoft Teams
ORGANIZER;CN="Curve Learning and Development":MAILTO:contactcurve@curvelearning.org.uk
END:VEVENT
BEGIN:VEVENT
DTSTART;VALUE=DATE:20250619
DTEND;VALUE=DATE:20250620
DTSTAMP:20260426T050019
CREATED:20241016T152651Z
LAST-MODIFIED:20241016T152651Z
UID:2013-1750291200-1750377599@curvelearning.org.uk
SUMMARY:Level 3 Infection Prevention and Control - Train The Trainer (Video) 3.5
DESCRIPTION:
URL:https://curvelearning.org.uk/event/level-3-infection-prevention-and-control-train-the-trainer-video-3-5-4/
LOCATION:Microsoft Teams
ORGANIZER;CN="Curve Learning and Development":MAILTO:contactcurve@curvelearning.org.uk
END:VEVENT
BEGIN:VEVENT
DTSTART;VALUE=DATE:20250617
DTEND;VALUE=DATE:20250618
DTSTAMP:20260426T050019
CREATED:20241016T152531Z
LAST-MODIFIED:20241016T152531Z
UID:2011-1750118400-1750204799@curvelearning.org.uk
SUMMARY:Level 3 Moving and Handling - Train The Trainer (Video)
DESCRIPTION:
URL:https://curvelearning.org.uk/event/level-3-moving-and-handling-train-the-trainer-video-48/
LOCATION:Microsoft Teams
ORGANIZER;CN="Curve Learning and Development":MAILTO:contactcurve@curvelearning.org.uk
END:VEVENT
BEGIN:VEVENT
DTSTART;VALUE=DATE:20250612
DTEND;VALUE=DATE:20250613
DTSTAMP:20260426T050019
CREATED:20241016T152350Z
LAST-MODIFIED:20241016T152350Z
UID:2009-1749686400-1749772799@curvelearning.org.uk
SUMMARY:Level 3 First Aid - Train The Trainer (Video)
DESCRIPTION:
URL:https://curvelearning.org.uk/event/level-3-first-aid-train-the-trainer-video-20/
LOCATION:Microsoft Teams
ORGANIZER;CN="Curve Learning and Development":MAILTO:contactcurve@curvelearning.org.uk
END:VEVENT
BEGIN:VEVENT
DTSTART;VALUE=DATE:20250610
DTEND;VALUE=DATE:20250611
DTSTAMP:20260426T050019
CREATED:20241016T151732Z
LAST-MODIFIED:20241016T151732Z
UID:2007-1749513600-1749599999@curvelearning.org.uk
SUMMARY:Level 3 Moving and Handling - Train The Trainer (Video)
DESCRIPTION:
URL:https://curvelearning.org.uk/event/level-3-moving-and-handling-train-the-trainer-video-47/
LOCATION:Microsoft Teams
ORGANIZER;CN="Curve Learning and Development":MAILTO:contactcurve@curvelearning.org.uk
END:VEVENT
BEGIN:VEVENT
DTSTART;VALUE=DATE:20250605
DTEND;VALUE=DATE:20250606
DTSTAMP:20260426T050019
CREATED:20241016T151518Z
LAST-MODIFIED:20241016T151518Z
UID:2005-1749081600-1749167999@curvelearning.org.uk
SUMMARY:Level 3 Medication - Train The Trainer (Video)
DESCRIPTION:
URL:https://curvelearning.org.uk/event/level-3-medication-train-the-trainer-video-22/
LOCATION:Microsoft Teams
ORGANIZER;CN="Curve Learning and Development":MAILTO:contactcurve@curvelearning.org.uk
END:VEVENT
BEGIN:VEVENT
DTSTART;VALUE=DATE:20250604
DTEND;VALUE=DATE:20250605
DTSTAMP:20260426T050019
CREATED:20241016T151347Z
LAST-MODIFIED:20241016T151347Z
UID:2003-1748995200-1749081599@curvelearning.org.uk
SUMMARY:Level 3 Moving and Handling - Train The Trainer (Video)
DESCRIPTION:
URL:https://curvelearning.org.uk/event/level-3-moving-and-handling-train-the-trainer-video-46/
LOCATION:Microsoft Teams
ORGANIZER;CN="Curve Learning and Development":MAILTO:contactcurve@curvelearning.org.uk
END:VEVENT
BEGIN:VEVENT
DTSTART;VALUE=DATE:20250603
DTEND;VALUE=DATE:20250604
DTSTAMP:20260426T050019
CREATED:20241016T151114Z
LAST-MODIFIED:20241016T151114Z
UID:2001-1748908800-1748995199@curvelearning.org.uk
SUMMARY:Level 3 Managing Behaviours That Challenge - Train The Trainer (Video) 3.5
DESCRIPTION:
URL:https://curvelearning.org.uk/event/level-3-managing-behaviours-that-challenge-train-the-trainer-video-3-5-5/
LOCATION:Microsoft Teams
ORGANIZER;CN="Curve Learning and Development":MAILTO:contactcurve@curvelearning.org.uk
END:VEVENT
END:VCALENDAR