BEGIN:VCALENDAR
VERSION:2.0
PRODID:-//Curve Learning &amp; Development - ECPv6.6.4.2//NONSGML v1.0//EN
CALSCALE:GREGORIAN
METHOD:PUBLISH
X-WR-CALNAME:Curve Learning &amp; Development
X-ORIGINAL-URL:https://curvelearning.org.uk
X-WR-CALDESC:Events for Curve Learning &amp; Development
REFRESH-INTERVAL;VALUE=DURATION:PT1H
X-Robots-Tag:noindex
X-PUBLISHED-TTL:PT1H
BEGIN:VTIMEZONE
TZID:Europe/London
BEGIN:DAYLIGHT
TZOFFSETFROM:+0000
TZOFFSETTO:+0100
TZNAME:BST
DTSTART:20250330T010000
END:DAYLIGHT
BEGIN:STANDARD
TZOFFSETFROM:+0100
TZOFFSETTO:+0000
TZNAME:GMT
DTSTART:20251026T010000
END:STANDARD
END:VTIMEZONE
BEGIN:VEVENT
DTSTART;VALUE=DATE:20250915
DTEND;VALUE=DATE:20250916
DTSTAMP:20260426T014632
CREATED:20241021T094227Z
LAST-MODIFIED:20241021T094227Z
UID:2125-1757894400-1757980799@curvelearning.org.uk
SUMMARY:Level 3 First Aid - Train The Trainer
DESCRIPTION:
URL:https://curvelearning.org.uk/event/level-3-first-aid-train-the-trainer-9/
LOCATION:Bridge House\, Bridge House\, Bridge Rd\, Horbury\, Wakefield\, West Yorkshire\, WF4 5NN\, United Kingdom
ORGANIZER;CN="Curve Learning and Development":MAILTO:contactcurve@curvelearning.org.uk
END:VEVENT
BEGIN:VEVENT
DTSTART;VALUE=DATE:20250911
DTEND;VALUE=DATE:20250912
DTSTAMP:20260426T014632
CREATED:20241021T093008Z
LAST-MODIFIED:20241021T093008Z
UID:2123-1757548800-1757635199@curvelearning.org.uk
SUMMARY:Level 3 Moving and Handling - Train The Trainer (Video)
DESCRIPTION:
URL:https://curvelearning.org.uk/event/level-3-moving-and-handling-train-the-trainer-video-59/
LOCATION:Microsoft Teams
ORGANIZER;CN="Curve Learning and Development":MAILTO:contactcurve@curvelearning.org.uk
END:VEVENT
BEGIN:VEVENT
DTSTART;VALUE=DATE:20250910
DTEND;VALUE=DATE:20250911
DTSTAMP:20260426T014632
CREATED:20241021T092815Z
LAST-MODIFIED:20241021T092815Z
UID:2121-1757462400-1757548799@curvelearning.org.uk
SUMMARY:Level 3 Dementia Awareness - Train The Trainer (Video) 3.5
DESCRIPTION:
URL:https://curvelearning.org.uk/event/level-3-dementia-awareness-train-the-trainer-video-3-5-5/
LOCATION:Microsoft Teams
ORGANIZER;CN="Curve Learning and Development":MAILTO:contactcurve@curvelearning.org.uk
END:VEVENT
BEGIN:VEVENT
DTSTART;VALUE=DATE:20250910
DTEND;VALUE=DATE:20250911
DTSTAMP:20260426T014632
CREATED:20241021T092615Z
LAST-MODIFIED:20241021T092615Z
UID:2119-1757462400-1757548799@curvelearning.org.uk
SUMMARY:Level 3 Fire Warden & Fire Safety - Train The Trainer (Video) 3.5
DESCRIPTION:
URL:https://curvelearning.org.uk/event/level-3-fire-warden-fire-safety-train-the-trainer-video-3-5-12/
LOCATION:Microsoft Teams
ORGANIZER;CN="Curve Learning and Development":MAILTO:contactcurve@curvelearning.org.uk
END:VEVENT
BEGIN:VEVENT
DTSTART;VALUE=DATE:20250909
DTEND;VALUE=DATE:20250910
DTSTAMP:20260426T014632
CREATED:20241021T092411Z
LAST-MODIFIED:20241021T092411Z
UID:2117-1757376000-1757462399@curvelearning.org.uk
SUMMARY:Level 3 Moving and Handling - Train The Trainer
DESCRIPTION:
URL:https://curvelearning.org.uk/event/level-3-moving-and-handling-train-the-trainer-14/
LOCATION:Bridge House\, Bridge House\, Bridge Rd\, Horbury\, Wakefield\, West Yorkshire\, WF4 5NN\, United Kingdom
ORGANIZER;CN="Curve Learning and Development":MAILTO:contactcurve@curvelearning.org.uk
END:VEVENT
BEGIN:VEVENT
DTSTART;VALUE=DATE:20250908
DTEND;VALUE=DATE:20250909
DTSTAMP:20260426T014632
CREATED:20241017T154443Z
LAST-MODIFIED:20241017T154443Z
UID:2112-1757289600-1757375999@curvelearning.org.uk
SUMMARY:Level 3 Medication - Train The Trainer (Video)
DESCRIPTION:
URL:https://curvelearning.org.uk/event/level-3-medication-train-the-trainer-video-28/
LOCATION:Microsoft Teams
ORGANIZER;CN="Curve Learning and Development":MAILTO:contactcurve@curvelearning.org.uk
END:VEVENT
BEGIN:VEVENT
DTSTART;VALUE=DATE:20250904
DTEND;VALUE=DATE:20250905
DTSTAMP:20260426T014632
CREATED:20241017T154304Z
LAST-MODIFIED:20241017T154304Z
UID:2110-1756944000-1757030399@curvelearning.org.uk
SUMMARY:Level 3 Diabetes Awareness - Train the Trainer (video)
DESCRIPTION:
URL:https://curvelearning.org.uk/event/level-3-diabetes-awareness-train-the-trainer-video-2/
LOCATION:Microsoft Teams
ORGANIZER;CN="Curve Learning and Development":MAILTO:contactcurve@curvelearning.org.uk
END:VEVENT
BEGIN:VEVENT
DTSTART;VALUE=DATE:20250904
DTEND;VALUE=DATE:20250905
DTSTAMP:20260426T014632
CREATED:20241017T154129Z
LAST-MODIFIED:20241017T154129Z
UID:2108-1756944000-1757030399@curvelearning.org.uk
SUMMARY:Level 3 Positive Behaviour Support - Train The Trainer (video)
DESCRIPTION:Level 3 Train The Trainer – Positive Behaviour Support (video)
URL:https://curvelearning.org.uk/event/level-3-positive-behaviour-support-train-the-trainer-video-2/
LOCATION:Microsoft Teams
ORGANIZER;CN="Curve Learning and Development":MAILTO:contactcurve@curvelearning.org.uk
END:VEVENT
BEGIN:VEVENT
DTSTART;VALUE=DATE:20250902
DTEND;VALUE=DATE:20250903
DTSTAMP:20260426T014632
CREATED:20241017T154015Z
LAST-MODIFIED:20241017T154015Z
UID:2106-1756771200-1756857599@curvelearning.org.uk
SUMMARY:Level 3 First Aid - Train The Trainer (Video)
DESCRIPTION:
URL:https://curvelearning.org.uk/event/level-3-first-aid-train-the-trainer-video-26/
LOCATION:Microsoft Teams
ORGANIZER;CN="Curve Learning and Development":MAILTO:contactcurve@curvelearning.org.uk
END:VEVENT
BEGIN:VEVENT
DTSTART;VALUE=DATE:20250901
DTEND;VALUE=DATE:20250902
DTSTAMP:20260426T014632
CREATED:20241017T153706Z
LAST-MODIFIED:20241017T153706Z
UID:2104-1756684800-1756771199@curvelearning.org.uk
SUMMARY:Level 3 Moving and Handling - Train The Trainer (Video)
DESCRIPTION:
URL:https://curvelearning.org.uk/event/level-3-moving-and-handling-train-the-trainer-video-58/
LOCATION:Microsoft Teams
ORGANIZER;CN="Curve Learning and Development":MAILTO:contactcurve@curvelearning.org.uk
END:VEVENT
BEGIN:VEVENT
DTSTART;VALUE=DATE:20250828
DTEND;VALUE=DATE:20250829
DTSTAMP:20260426T014632
CREATED:20241017T153520Z
LAST-MODIFIED:20241017T153520Z
UID:2102-1756339200-1756425599@curvelearning.org.uk
SUMMARY:Level 3 First Aid - Train The Trainer (Video)
DESCRIPTION:
URL:https://curvelearning.org.uk/event/level-3-first-aid-train-the-trainer-video-25/
LOCATION:Microsoft Teams
ORGANIZER;CN="Curve Learning and Development":MAILTO:contactcurve@curvelearning.org.uk
END:VEVENT
BEGIN:VEVENT
DTSTART;VALUE=DATE:20250827
DTEND;VALUE=DATE:20250828
DTSTAMP:20260426T014632
CREATED:20241017T153426Z
LAST-MODIFIED:20241017T153426Z
UID:2100-1756252800-1756339199@curvelearning.org.uk
SUMMARY:Level 3 Moving and Handling - Train The Trainer (Video)
DESCRIPTION:
URL:https://curvelearning.org.uk/event/level-3-moving-and-handling-train-the-trainer-video-57/
LOCATION:Microsoft Teams
ORGANIZER;CN="Curve Learning and Development":MAILTO:contactcurve@curvelearning.org.uk
END:VEVENT
BEGIN:VEVENT
DTSTART;VALUE=DATE:20250821
DTEND;VALUE=DATE:20250822
DTSTAMP:20260426T014632
CREATED:20241017T153241Z
LAST-MODIFIED:20241017T153241Z
UID:2098-1755734400-1755820799@curvelearning.org.uk
SUMMARY:Level 3 Supervision and Appraisal (Managers) (Video)
DESCRIPTION:
URL:https://curvelearning.org.uk/event/level-3-supervision-and-appraisal-managers-video-5/
LOCATION:Microsoft Teams
ORGANIZER;CN="Curve Learning and Development":MAILTO:contactcurve@curvelearning.org.uk
END:VEVENT
BEGIN:VEVENT
DTSTART;VALUE=DATE:20250821
DTEND;VALUE=DATE:20250822
DTSTAMP:20260426T014632
CREATED:20241017T153150Z
LAST-MODIFIED:20241017T153150Z
UID:2096-1755734400-1755820799@curvelearning.org.uk
SUMMARY:Level 3 Medication - Train The Trainer (Video)
DESCRIPTION:
URL:https://curvelearning.org.uk/event/level-3-medication-train-the-trainer-video-27/
LOCATION:Microsoft Teams
ORGANIZER;CN="Curve Learning and Development":MAILTO:contactcurve@curvelearning.org.uk
END:VEVENT
BEGIN:VEVENT
DTSTART;VALUE=DATE:20250820
DTEND;VALUE=DATE:20250821
DTSTAMP:20260426T014632
CREATED:20241017T153054Z
LAST-MODIFIED:20241017T153054Z
UID:2094-1755648000-1755734399@curvelearning.org.uk
SUMMARY:Level 3 Moving and Handling - Train The Trainer (Video)
DESCRIPTION:
URL:https://curvelearning.org.uk/event/level-3-moving-and-handling-train-the-trainer-video-56/
LOCATION:Microsoft Teams
ORGANIZER;CN="Curve Learning and Development":MAILTO:contactcurve@curvelearning.org.uk
END:VEVENT
BEGIN:VEVENT
DTSTART;VALUE=DATE:20250819
DTEND;VALUE=DATE:20250820
DTSTAMP:20260426T014632
CREATED:20241017T143607Z
LAST-MODIFIED:20241017T143607Z
UID:2088-1755561600-1755647999@curvelearning.org.uk
SUMMARY:Level 3 Safeguarding for Managers (Video)
DESCRIPTION:
URL:https://curvelearning.org.uk/event/level-3-safeguarding-for-managers-video-4/
LOCATION:Microsoft Teams
ORGANIZER;CN="Curve Learning and Development":MAILTO:contactcurve@curvelearning.org.uk
END:VEVENT
BEGIN:VEVENT
DTSTART;VALUE=DATE:20250814
DTEND;VALUE=DATE:20250815
DTSTAMP:20260426T014632
CREATED:20241017T143522Z
LAST-MODIFIED:20241017T143522Z
UID:2086-1755129600-1755215999@curvelearning.org.uk
SUMMARY:Level 3 Moving and Handling - Train The Trainer (Video)
DESCRIPTION:
URL:https://curvelearning.org.uk/event/level-3-moving-and-handling-train-the-trainer-video-55/
LOCATION:Microsoft Teams
ORGANIZER;CN="Curve Learning and Development":MAILTO:contactcurve@curvelearning.org.uk
END:VEVENT
BEGIN:VEVENT
DTSTART;VALUE=DATE:20250813
DTEND;VALUE=DATE:20250814
DTSTAMP:20260426T014632
CREATED:20241017T143429Z
LAST-MODIFIED:20241017T143429Z
UID:2084-1755043200-1755129599@curvelearning.org.uk
SUMMARY:Level 3 End of Life Care - Train the Trainer (Video)
DESCRIPTION:
URL:https://curvelearning.org.uk/event/level-3-end-of-life-care-train-the-trainer-video-2/
LOCATION:Microsoft Teams
ORGANIZER;CN="Curve Learning and Development":MAILTO:contactcurve@curvelearning.org.uk
END:VEVENT
BEGIN:VEVENT
DTSTART;VALUE=DATE:20250813
DTEND;VALUE=DATE:20250814
DTSTAMP:20260426T014632
CREATED:20241017T143321Z
LAST-MODIFIED:20241017T143321Z
UID:2082-1755043200-1755129599@curvelearning.org.uk
SUMMARY:Level 3 Mental Capacity Act and DoLS (Managers) (Video)
DESCRIPTION:
URL:https://curvelearning.org.uk/event/level-3-mental-capacity-act-and-dols-managers-video-4/
LOCATION:Microsoft Teams
ORGANIZER;CN="Curve Learning and Development":MAILTO:contactcurve@curvelearning.org.uk
END:VEVENT
BEGIN:VEVENT
DTSTART;VALUE=DATE:20250813
DTEND;VALUE=DATE:20250814
DTSTAMP:20260426T014632
CREATED:20241017T142918Z
LAST-MODIFIED:20241021T102255Z
UID:2080-1755043200-1755129599@curvelearning.org.uk
SUMMARY:Level 3 Safeguarding Adults - Train The Trainer (Video) 3.5
DESCRIPTION:
URL:https://curvelearning.org.uk/event/level-3-safeguarding-adults-train-the-trainer-video-3-5-8/
LOCATION:Microsoft Teams
ORGANIZER;CN="Curve Learning and Development":MAILTO:contactcurve@curvelearning.org.uk
END:VEVENT
BEGIN:VEVENT
DTSTART;VALUE=DATE:20250812
DTEND;VALUE=DATE:20250813
DTSTAMP:20260426T014632
CREATED:20241017T142826Z
LAST-MODIFIED:20241017T142826Z
UID:2078-1754956800-1755043199@curvelearning.org.uk
SUMMARY:Level 3 Epilepsy Awareness - Train the Trainer (video)
DESCRIPTION:
URL:https://curvelearning.org.uk/event/level-3-epilepsy-awareness-train-the-trainer-video-3/
LOCATION:Microsoft Teams
ORGANIZER;CN="Curve Learning and Development":MAILTO:contactcurve@curvelearning.org.uk
END:VEVENT
BEGIN:VEVENT
DTSTART;VALUE=DATE:20250812
DTEND;VALUE=DATE:20250813
DTSTAMP:20260426T014632
CREATED:20241017T142726Z
LAST-MODIFIED:20241017T142726Z
UID:2076-1754956800-1755043199@curvelearning.org.uk
SUMMARY:Level 3 Record Keeping and Report Writing - Train The Trainer (Video) 3.5
DESCRIPTION:
URL:https://curvelearning.org.uk/event/level-3-record-keeping-and-report-writing-train-the-trainer-video-3-5-2/
LOCATION:Microsoft Teams
ORGANIZER;CN="Curve Learning and Development":MAILTO:contactcurve@curvelearning.org.uk
END:VEVENT
BEGIN:VEVENT
DTSTART;VALUE=DATE:20250807
DTEND;VALUE=DATE:20250808
DTSTAMP:20260426T014632
CREATED:20241017T134838Z
LAST-MODIFIED:20241017T134838Z
UID:2073-1754524800-1754611199@curvelearning.org.uk
SUMMARY:Level 3 First Aid - Train The Trainer (Video)
DESCRIPTION:
URL:https://curvelearning.org.uk/event/level-3-first-aid-train-the-trainer-video-24/
LOCATION:Microsoft Teams
ORGANIZER;CN="Curve Learning and Development":MAILTO:contactcurve@curvelearning.org.uk
END:VEVENT
BEGIN:VEVENT
DTSTART;VALUE=DATE:20250807
DTEND;VALUE=DATE:20250808
DTSTAMP:20260426T014632
CREATED:20241017T134634Z
LAST-MODIFIED:20241017T134634Z
UID:2070-1754524800-1754611199@curvelearning.org.uk
SUMMARY:Level 3 Medication with Practical Competency
DESCRIPTION:
URL:https://curvelearning.org.uk/event/level-3-medication-with-practical-competency-3/
LOCATION:Bridge House\, Bridge House\, Bridge Rd\, Horbury\, Wakefield\, West Yorkshire\, WF4 5NN\, United Kingdom
ORGANIZER;CN="Curve Learning and Development":MAILTO:contactcurve@curvelearning.org.uk
END:VEVENT
BEGIN:VEVENT
DTSTART;VALUE=DATE:20250806
DTEND;VALUE=DATE:20250807
DTSTAMP:20260426T014632
CREATED:20241017T134505Z
LAST-MODIFIED:20241017T134505Z
UID:2068-1754438400-1754524799@curvelearning.org.uk
SUMMARY:Level 3 Moving and Handling - Train The Trainer
DESCRIPTION:
URL:https://curvelearning.org.uk/event/level-3-moving-and-handling-train-the-trainer-13/
LOCATION:Bridge House\, Bridge House\, Bridge Rd\, Horbury\, Wakefield\, West Yorkshire\, WF4 5NN\, United Kingdom
ORGANIZER;CN="Curve Learning and Development":MAILTO:contactcurve@curvelearning.org.uk
END:VEVENT
BEGIN:VEVENT
DTSTART;VALUE=DATE:20250805
DTEND;VALUE=DATE:20250806
DTSTAMP:20260426T014632
CREATED:20241017T134348Z
LAST-MODIFIED:20241017T134348Z
UID:2066-1754352000-1754438399@curvelearning.org.uk
SUMMARY:Level 3 Moving and Handling - Train The Trainer (Video)
DESCRIPTION:
URL:https://curvelearning.org.uk/event/level-3-moving-and-handling-train-the-trainer-video-54/
LOCATION:Microsoft Teams
ORGANIZER;CN="Curve Learning and Development":MAILTO:contactcurve@curvelearning.org.uk
END:VEVENT
BEGIN:VEVENT
DTSTART;VALUE=DATE:20250801
DTEND;VALUE=DATE:20250802
DTSTAMP:20260426T014632
CREATED:20241017T134223Z
LAST-MODIFIED:20241017T134223Z
UID:2064-1754006400-1754092799@curvelearning.org.uk
SUMMARY:Level 3 Medication  - Train The Trainer (Video)
DESCRIPTION:
URL:https://curvelearning.org.uk/event/level-3-medication-train-the-trainer-video-26/
LOCATION:Microsoft Teams
ORGANIZER;CN="Curve Learning and Development":MAILTO:contactcurve@curvelearning.org.uk
END:VEVENT
BEGIN:VEVENT
DTSTART;VALUE=DATE:20250731
DTEND;VALUE=DATE:20250801
DTSTAMP:20260426T014632
CREATED:20241017T134127Z
LAST-MODIFIED:20241017T134127Z
UID:2062-1753920000-1754006399@curvelearning.org.uk
SUMMARY:Level 3 Medication - Train The Trainer (Video)
DESCRIPTION:
URL:https://curvelearning.org.uk/event/level-3-medication-train-the-trainer-video-25/
LOCATION:Microsoft Teams
ORGANIZER;CN="Curve Learning and Development":MAILTO:contactcurve@curvelearning.org.uk
END:VEVENT
BEGIN:VEVENT
DTSTART;VALUE=DATE:20250730
DTEND;VALUE=DATE:20250731
DTSTAMP:20260426T014632
CREATED:20241017T134029Z
LAST-MODIFIED:20241017T134029Z
UID:2060-1753833600-1753919999@curvelearning.org.uk
SUMMARY:Level 3 Moving and Handling - Train The Trainer (Video)
DESCRIPTION:
URL:https://curvelearning.org.uk/event/level-3-moving-and-handling-train-the-trainer-video-53/
LOCATION:Microsoft Teams
ORGANIZER;CN="Curve Learning and Development":MAILTO:contactcurve@curvelearning.org.uk
END:VEVENT
BEGIN:VEVENT
DTSTART;VALUE=DATE:20250729
DTEND;VALUE=DATE:20250730
DTSTAMP:20260426T014632
CREATED:20241017T133745Z
LAST-MODIFIED:20241017T133745Z
UID:2058-1753747200-1753833599@curvelearning.org.uk
SUMMARY:Level 3 First Aid - Train The Trainer (Video)
DESCRIPTION:
URL:https://curvelearning.org.uk/event/level-3-first-aid-train-the-trainer-video-23/
LOCATION:Microsoft Teams
ORGANIZER;CN="Curve Learning and Development":MAILTO:contactcurve@curvelearning.org.uk
END:VEVENT
END:VCALENDAR