BEGIN:VCALENDAR
VERSION:2.0
PRODID:-//Curve Learning &amp; Development - ECPv6.6.4.2//NONSGML v1.0//EN
CALSCALE:GREGORIAN
METHOD:PUBLISH
X-WR-CALNAME:Curve Learning &amp; Development
X-ORIGINAL-URL:https://curvelearning.org.uk
X-WR-CALDESC:Events for Curve Learning &amp; Development
REFRESH-INTERVAL;VALUE=DURATION:PT1H
X-Robots-Tag:noindex
X-PUBLISHED-TTL:PT1H
BEGIN:VTIMEZONE
TZID:Europe/London
BEGIN:DAYLIGHT
TZOFFSETFROM:+0000
TZOFFSETTO:+0100
TZNAME:BST
DTSTART:20250330T010000
END:DAYLIGHT
BEGIN:STANDARD
TZOFFSETFROM:+0100
TZOFFSETTO:+0000
TZNAME:GMT
DTSTART:20251026T010000
END:STANDARD
BEGIN:DAYLIGHT
TZOFFSETFROM:+0000
TZOFFSETTO:+0100
TZNAME:BST
DTSTART:20260329T010000
END:DAYLIGHT
BEGIN:STANDARD
TZOFFSETFROM:+0100
TZOFFSETTO:+0000
TZNAME:GMT
DTSTART:20261025T010000
END:STANDARD
END:VTIMEZONE
BEGIN:VEVENT
DTSTART;VALUE=DATE:20260217
DTEND;VALUE=DATE:20260218
DTSTAMP:20260425T172510
CREATED:20251110T162116Z
LAST-MODIFIED:20251110T162116Z
UID:3092-1771286400-1771372799@curvelearning.org.uk
SUMMARY:Level 3 Safeguarding Adults - Train The Trainer (Video) 3.5
DESCRIPTION:
URL:https://curvelearning.org.uk/event/level-3-safeguarding-adults-train-the-trainer-video-3-5-11/
LOCATION:Microsoft Teams
ORGANIZER;CN="Curve Learning and Development":MAILTO:contactcurve@curvelearning.org.uk
END:VEVENT
BEGIN:VEVENT
DTSTART;VALUE=DATE:20260212
DTEND;VALUE=DATE:20260213
DTSTAMP:20260425T172510
CREATED:20251110T161622Z
LAST-MODIFIED:20251110T161622Z
UID:3090-1770854400-1770940799@curvelearning.org.uk
SUMMARY:Level 3 Fire Warden & Fire Safety - Train The Trainer (Video) 3.5
DESCRIPTION:
URL:https://curvelearning.org.uk/event/level-3-fire-warden-fire-safety-train-the-trainer-video-3-5-15/
LOCATION:Microsoft Teams
ORGANIZER;CN="Curve Learning and Development":MAILTO:contactcurve@curvelearning.org.uk
END:VEVENT
BEGIN:VEVENT
DTSTART;VALUE=DATE:20260212
DTEND;VALUE=DATE:20260213
DTSTAMP:20260425T172510
CREATED:20251110T161426Z
LAST-MODIFIED:20251110T161426Z
UID:3088-1770854400-1770940799@curvelearning.org.uk
SUMMARY:Level 3 Moving and Handling - Train The Trainer
DESCRIPTION:
URL:https://curvelearning.org.uk/event/level-3-moving-and-handling-train-the-trainer-19/
LOCATION:Bridge House\, Bridge House\, Bridge Rd\, Horbury\, Wakefield\, West Yorkshire\, WF4 5NN\, United Kingdom
ORGANIZER;CN="Curve Learning and Development":MAILTO:contactcurve@curvelearning.org.uk
END:VEVENT
BEGIN:VEVENT
DTSTART;VALUE=DATE:20260212
DTEND;VALUE=DATE:20260213
DTSTAMP:20260425T172510
CREATED:20251110T160715Z
LAST-MODIFIED:20251110T160715Z
UID:3086-1770854400-1770940799@curvelearning.org.uk
SUMMARY:Level 3 Dementia Awareness - Train The Trainer (Video) 3.5
DESCRIPTION:
URL:https://curvelearning.org.uk/event/level-3-dementia-awareness-train-the-trainer-video-3-5-7/
LOCATION:Microsoft Teams
ORGANIZER;CN="Curve Learning and Development":MAILTO:contactcurve@curvelearning.org.uk
END:VEVENT
BEGIN:VEVENT
DTSTART;VALUE=DATE:20260211
DTEND;VALUE=DATE:20260212
DTSTAMP:20260425T172510
CREATED:20251110T160501Z
LAST-MODIFIED:20251110T160501Z
UID:3084-1770768000-1770854399@curvelearning.org.uk
SUMMARY:Level 3 Moving and Handling - Train The Trainer (Video)
DESCRIPTION:
URL:https://curvelearning.org.uk/event/level-3-moving-and-handling-train-the-trainer-video-75/
LOCATION:Microsoft Teams
ORGANIZER;CN="Curve Learning and Development":MAILTO:contactcurve@curvelearning.org.uk
END:VEVENT
BEGIN:VEVENT
DTSTART;VALUE=DATE:20260210
DTEND;VALUE=DATE:20260211
DTSTAMP:20260425T172510
CREATED:20251110T160347Z
LAST-MODIFIED:20251110T160347Z
UID:3082-1770681600-1770767999@curvelearning.org.uk
SUMMARY:Level 3 Medication - Train The Trainer (Video)
DESCRIPTION:Level 3 Train The Trainer – Medication (Video)
URL:https://curvelearning.org.uk/event/level-3-medication-train-the-trainer-video-38/
LOCATION:Microsoft Teams
ORGANIZER;CN="Curve Learning and Development":MAILTO:contactcurve@curvelearning.org.uk
END:VEVENT
BEGIN:VEVENT
DTSTART;VALUE=DATE:20260209
DTEND;VALUE=DATE:20260210
DTSTAMP:20260425T172510
CREATED:20251110T160148Z
LAST-MODIFIED:20251110T160148Z
UID:3080-1770595200-1770681599@curvelearning.org.uk
SUMMARY:Level 3 First Aid - Train The Trainer (Video)
DESCRIPTION:
URL:https://curvelearning.org.uk/event/level-3-first-aid-train-the-trainer-video-33/
LOCATION:Microsoft Teams
ORGANIZER;CN="Curve Learning and Development":MAILTO:contactcurve@curvelearning.org.uk
END:VEVENT
BEGIN:VEVENT
DTSTART;VALUE=DATE:20260204
DTEND;VALUE=DATE:20260205
DTSTAMP:20260425T172510
CREATED:20251110T155823Z
LAST-MODIFIED:20251110T155823Z
UID:3078-1770163200-1770249599@curvelearning.org.uk
SUMMARY:Level 3 Moving and Handling - Train The Trainer (Video)
DESCRIPTION:
URL:https://curvelearning.org.uk/event/level-3-moving-and-handling-train-the-trainer-video-74/
LOCATION:Microsoft Teams
ORGANIZER;CN="Curve Learning and Development":MAILTO:contactcurve@curvelearning.org.uk
END:VEVENT
BEGIN:VEVENT
DTSTART;VALUE=DATE:20260130
DTEND;VALUE=DATE:20260131
DTSTAMP:20260425T172510
CREATED:20251110T154811Z
LAST-MODIFIED:20251110T154811Z
UID:3076-1769731200-1769817599@curvelearning.org.uk
SUMMARY:Level 3 Mental Capacity Act and DoLS (Managers) (Video)
DESCRIPTION:
URL:https://curvelearning.org.uk/event/level-3-mental-capacity-act-and-dols-managers-video-6/
LOCATION:Microsoft Teams
ORGANIZER;CN="Curve Learning and Development":MAILTO:contactcurve@curvelearning.org.uk
END:VEVENT
BEGIN:VEVENT
DTSTART;VALUE=DATE:20260129
DTEND;VALUE=DATE:20260130
DTSTAMP:20260425T172510
CREATED:20251110T153345Z
LAST-MODIFIED:20251110T153345Z
UID:3074-1769644800-1769731199@curvelearning.org.uk
SUMMARY:Level 3 Epilepsy Awareness - Train the Trainer (video)
DESCRIPTION:
URL:https://curvelearning.org.uk/event/level-3-epilepsy-awareness-train-the-trainer-video-4/
LOCATION:Microsoft Teams
ORGANIZER;CN="Curve Learning and Development":MAILTO:contactcurve@curvelearning.org.uk
END:VEVENT
BEGIN:VEVENT
DTSTART;VALUE=DATE:20260129
DTEND;VALUE=DATE:20260130
DTSTAMP:20260425T172510
CREATED:20251110T145108Z
LAST-MODIFIED:20251110T145108Z
UID:3072-1769644800-1769731199@curvelearning.org.uk
SUMMARY:Level 3 Infection Prevention and Control - Train The Trainer (Video) 3.5
DESCRIPTION:
URL:https://curvelearning.org.uk/event/level-3-infection-prevention-and-control-train-the-trainer-video-3-5-6/
LOCATION:Microsoft Teams
ORGANIZER;CN="Curve Learning and Development":MAILTO:contactcurve@curvelearning.org.uk
END:VEVENT
BEGIN:VEVENT
DTSTART;VALUE=DATE:20260128
DTEND;VALUE=DATE:20260129
DTSTAMP:20260425T172510
CREATED:20251110T144821Z
LAST-MODIFIED:20251110T144821Z
UID:3070-1769558400-1769644799@curvelearning.org.uk
SUMMARY:Level 3 Medication - Train The Trainer (Video)
DESCRIPTION:
URL:https://curvelearning.org.uk/event/level-3-medication-train-the-trainer-video-37/
LOCATION:Microsoft Teams
ORGANIZER;CN="Curve Learning and Development":MAILTO:contactcurve@curvelearning.org.uk
END:VEVENT
BEGIN:VEVENT
DTSTART;VALUE=DATE:20260127
DTEND;VALUE=DATE:20260128
DTSTAMP:20260425T172510
CREATED:20251110T144657Z
LAST-MODIFIED:20251110T144657Z
UID:3068-1769472000-1769558399@curvelearning.org.uk
SUMMARY:Level 3 Safeguarding for Managers (Video)
DESCRIPTION:
URL:https://curvelearning.org.uk/event/level-3-safeguarding-for-managers-video-7/
LOCATION:Microsoft Teams
ORGANIZER;CN="Curve Learning and Development":MAILTO:contactcurve@curvelearning.org.uk
END:VEVENT
BEGIN:VEVENT
DTSTART;VALUE=DATE:20260126
DTEND;VALUE=DATE:20260127
DTSTAMP:20260425T172510
CREATED:20251110T144446Z
LAST-MODIFIED:20251110T144446Z
UID:3066-1769385600-1769471999@curvelearning.org.uk
SUMMARY:Level 3 Moving and Handling - Train The Trainer (Video)
DESCRIPTION:
URL:https://curvelearning.org.uk/event/level-3-moving-and-handling-train-the-trainer-video-73/
LOCATION:Microsoft Teams
ORGANIZER;CN="Curve Learning and Development":MAILTO:contactcurve@curvelearning.org.uk
END:VEVENT
BEGIN:VEVENT
DTSTART;VALUE=DATE:20260123
DTEND;VALUE=DATE:20260124
DTSTAMP:20260425T172510
CREATED:20251110T144340Z
LAST-MODIFIED:20251110T144340Z
UID:3064-1769126400-1769212799@curvelearning.org.uk
SUMMARY:Level 3 Equality and Diversity - Train The Trainer (Video) 3.5
DESCRIPTION:
URL:https://curvelearning.org.uk/event/level-3-equality-and-diversity-train-the-trainer-video-3-5-5/
LOCATION:Microsoft Teams
ORGANIZER;CN="Curve Learning and Development":MAILTO:contactcurve@curvelearning.org.uk
END:VEVENT
BEGIN:VEVENT
DTSTART;VALUE=DATE:20260123
DTEND;VALUE=DATE:20260124
DTSTAMP:20260425T172510
CREATED:20251110T144124Z
LAST-MODIFIED:20251110T144124Z
UID:3062-1769126400-1769212799@curvelearning.org.uk
SUMMARY:Level 3 First Aid - Train The Trainer (Video)
DESCRIPTION:
URL:https://curvelearning.org.uk/event/level-3-first-aid-train-the-trainer-video-32/
LOCATION:Microsoft Teams
ORGANIZER;CN="Curve Learning and Development":MAILTO:contactcurve@curvelearning.org.uk
END:VEVENT
BEGIN:VEVENT
DTSTART;VALUE=DATE:20260123
DTEND;VALUE=DATE:20260124
DTSTAMP:20260425T172510
CREATED:20251110T143955Z
LAST-MODIFIED:20251110T143955Z
UID:3060-1769126400-1769212799@curvelearning.org.uk
SUMMARY:Level 3 Mental Capacity Act - Train The Trainer (Video) 3.5
DESCRIPTION:
URL:https://curvelearning.org.uk/event/level-3-mental-capacity-act-train-the-trainer-video-3-5-9/
LOCATION:Microsoft Teams
ORGANIZER;CN="Curve Learning and Development":MAILTO:contactcurve@curvelearning.org.uk
END:VEVENT
BEGIN:VEVENT
DTSTART;VALUE=DATE:20260122
DTEND;VALUE=DATE:20260123
DTSTAMP:20260425T172510
CREATED:20251110T143826Z
LAST-MODIFIED:20251110T143826Z
UID:3058-1769040000-1769126399@curvelearning.org.uk
SUMMARY:Level 3 Supervision and Appraisal (Managers) (Video)
DESCRIPTION:
URL:https://curvelearning.org.uk/event/level-3-supervision-and-appraisal-managers-video-8/
LOCATION:Microsoft Teams
ORGANIZER;CN="Curve Learning and Development":MAILTO:contactcurve@curvelearning.org.uk
END:VEVENT
BEGIN:VEVENT
DTSTART;VALUE=DATE:20260116
DTEND;VALUE=DATE:20260117
DTSTAMP:20260425T172510
CREATED:20251110T143719Z
LAST-MODIFIED:20251110T143719Z
UID:3056-1768521600-1768607999@curvelearning.org.uk
SUMMARY:Level 3 Moving and Handling - Train The Trainer (Video)
DESCRIPTION:
URL:https://curvelearning.org.uk/event/level-3-moving-and-handling-train-the-trainer-video-72/
LOCATION:Microsoft Teams
ORGANIZER;CN="Curve Learning and Development":MAILTO:contactcurve@curvelearning.org.uk
END:VEVENT
BEGIN:VEVENT
DTSTART;VALUE=DATE:20260115
DTEND;VALUE=DATE:20260116
DTSTAMP:20260425T172510
CREATED:20251110T143615Z
LAST-MODIFIED:20251110T143615Z
UID:3054-1768435200-1768521599@curvelearning.org.uk
SUMMARY:Level 3 Medication - Train The Trainer (Video)
DESCRIPTION:
URL:https://curvelearning.org.uk/event/level-3-medication-train-the-trainer-video-36/
LOCATION:Microsoft Teams
ORGANIZER;CN="Curve Learning and Development":MAILTO:contactcurve@curvelearning.org.uk
END:VEVENT
BEGIN:VEVENT
DTSTART;VALUE=DATE:20260114
DTEND;VALUE=DATE:20260115
DTSTAMP:20260425T172510
CREATED:20251110T143438Z
LAST-MODIFIED:20251110T143438Z
UID:3052-1768348800-1768435199@curvelearning.org.uk
SUMMARY:Level 3 First Aid - Train The Trainer
DESCRIPTION:
URL:https://curvelearning.org.uk/event/level-3-first-aid-train-the-trainer-12/
LOCATION:Bridge House\, Bridge House\, Bridge Rd\, Horbury\, Wakefield\, West Yorkshire\, WF4 5NN\, United Kingdom
ORGANIZER;CN="Curve Learning and Development":MAILTO:contactcurve@curvelearning.org.uk
END:VEVENT
BEGIN:VEVENT
DTSTART;VALUE=DATE:20260109
DTEND;VALUE=DATE:20260110
DTSTAMP:20260425T172510
CREATED:20251110T143302Z
LAST-MODIFIED:20251110T143302Z
UID:3050-1767916800-1768003199@curvelearning.org.uk
SUMMARY:Level 3 First Aid - Train The Trainer (Video)
DESCRIPTION:
URL:https://curvelearning.org.uk/event/level-3-first-aid-train-the-trainer-video-30/
LOCATION:Microsoft Teams
ORGANIZER;CN="Curve Learning and Development":MAILTO:contactcurve@curvelearning.org.uk
END:VEVENT
BEGIN:VEVENT
DTSTART;VALUE=DATE:20260107
DTEND;VALUE=DATE:20260108
DTSTAMP:20260425T172510
CREATED:20251110T143045Z
LAST-MODIFIED:20251110T143045Z
UID:3048-1767744000-1767830399@curvelearning.org.uk
SUMMARY:Level 3 Moving and Handling - Train The Trainer (Video)
DESCRIPTION:
URL:https://curvelearning.org.uk/event/level-3-moving-and-handling-train-the-trainer-video-69/
LOCATION:Microsoft Teams
ORGANIZER;CN="Curve Learning and Development":MAILTO:contactcurve@curvelearning.org.uk
END:VEVENT
BEGIN:VEVENT
DTSTART;VALUE=DATE:20251222
DTEND;VALUE=DATE:20251223
DTSTAMP:20260425T172510
CREATED:20241023T155944Z
LAST-MODIFIED:20241023T155944Z
UID:2251-1766361600-1766447999@curvelearning.org.uk
SUMMARY:Level 3 Safeguarding Adults - Train The Trainer (Video) 3.5
DESCRIPTION:
URL:https://curvelearning.org.uk/event/level-3-safeguarding-adults-train-the-trainer-video-3-5-10/
LOCATION:Microsoft Teams
ORGANIZER;CN="Curve Learning and Development":MAILTO:contactcurve@curvelearning.org.uk
END:VEVENT
BEGIN:VEVENT
DTSTART;VALUE=DATE:20251219
DTEND;VALUE=DATE:20251220
DTSTAMP:20260425T172510
CREATED:20241023T155825Z
LAST-MODIFIED:20241023T155825Z
UID:2249-1766102400-1766188799@curvelearning.org.uk
SUMMARY:Level 3 Medication - Train The Trainer (Video)
DESCRIPTION:
URL:https://curvelearning.org.uk/event/level-3-medication-train-the-trainer-video-35/
LOCATION:Microsoft Teams
ORGANIZER;CN="Curve Learning and Development":MAILTO:contactcurve@curvelearning.org.uk
END:VEVENT
BEGIN:VEVENT
DTSTART;VALUE=DATE:20251218
DTEND;VALUE=DATE:20251219
DTSTAMP:20260425T172510
CREATED:20241023T155656Z
LAST-MODIFIED:20241023T155656Z
UID:2247-1766016000-1766102399@curvelearning.org.uk
SUMMARY:Level 3 End of Life Care - Train the Trainer (Video)
DESCRIPTION:
URL:https://curvelearning.org.uk/event/level-3-end-of-life-care-train-the-trainer-video-3/
LOCATION:Microsoft Teams
ORGANIZER;CN="Curve Learning and Development":MAILTO:contactcurve@curvelearning.org.uk
END:VEVENT
BEGIN:VEVENT
DTSTART;VALUE=DATE:20251218
DTEND;VALUE=DATE:20251219
DTSTAMP:20260425T172510
CREATED:20241023T155353Z
LAST-MODIFIED:20241023T155353Z
UID:2245-1766016000-1766102399@curvelearning.org.uk
SUMMARY:Level 3 Moving and Handling - Train The Trainer
DESCRIPTION:
URL:https://curvelearning.org.uk/event/level-3-moving-and-handling-train-the-trainer-17/
LOCATION:Bridge House\, Bridge House\, Bridge Rd\, Horbury\, Wakefield\, West Yorkshire\, WF4 5NN\, United Kingdom
ORGANIZER;CN="Curve Learning and Development":MAILTO:contactcurve@curvelearning.org.uk
END:VEVENT
BEGIN:VEVENT
DTSTART;VALUE=DATE:20251218
DTEND;VALUE=DATE:20251219
DTSTAMP:20260425T172510
CREATED:20241023T155218Z
LAST-MODIFIED:20241023T155218Z
UID:2243-1766016000-1766102399@curvelearning.org.uk
SUMMARY:Level 3 Fire Warden & Fire Safety - Train The Trainer (Video) 3.5
DESCRIPTION:Level 3 Train The Trainer – Fire Warden & Fire Safety (Video) 3.5
URL:https://curvelearning.org.uk/event/level-3-fire-warden-fire-safety-train-the-trainer-video-3-5-14/
LOCATION:Microsoft Teams
ORGANIZER;CN="Curve Learning and Development":MAILTO:contactcurve@curvelearning.org.uk
END:VEVENT
BEGIN:VEVENT
DTSTART;VALUE=DATE:20251217
DTEND;VALUE=DATE:20251218
DTSTAMP:20260425T172510
CREATED:20251110T142427Z
LAST-MODIFIED:20251110T142427Z
UID:3046-1765929600-1766015999@curvelearning.org.uk
SUMMARY:Level 3 Supervision and Appraisal (Managers) (Video)
DESCRIPTION:
URL:https://curvelearning.org.uk/event/level-3-supervision-and-appraisal-managers-video-7/
LOCATION:Microsoft Teams
ORGANIZER;CN="Curve Learning and Development":MAILTO:contactcurve@curvelearning.org.uk
END:VEVENT
BEGIN:VEVENT
DTSTART;VALUE=DATE:20251216
DTEND;VALUE=DATE:20251217
DTSTAMP:20260425T172510
CREATED:20251110T142240Z
LAST-MODIFIED:20251110T142240Z
UID:3044-1765843200-1765929599@curvelearning.org.uk
SUMMARY:First Aid at Work
DESCRIPTION:
URL:https://curvelearning.org.uk/event/first-aid-at-work-18/
LOCATION:Bridge House\, Bridge House\, Bridge Rd\, Horbury\, Wakefield\, West Yorkshire\, WF4 5NN\, United Kingdom
ORGANIZER;CN="Curve Learning and Development":MAILTO:contactcurve@curvelearning.org.uk
END:VEVENT
END:VCALENDAR