BEGIN:VCALENDAR
VERSION:2.0
PRODID:-//Curve Learning &amp; Development - ECPv6.6.4.2//NONSGML v1.0//EN
CALSCALE:GREGORIAN
METHOD:PUBLISH
X-WR-CALNAME:Curve Learning &amp; Development
X-ORIGINAL-URL:https://curvelearning.org.uk
X-WR-CALDESC:Events for Curve Learning &amp; Development
REFRESH-INTERVAL;VALUE=DURATION:PT1H
X-Robots-Tag:noindex
X-PUBLISHED-TTL:PT1H
BEGIN:VTIMEZONE
TZID:Europe/London
BEGIN:DAYLIGHT
TZOFFSETFROM:+0000
TZOFFSETTO:+0100
TZNAME:BST
DTSTART:20260329T010000
END:DAYLIGHT
BEGIN:STANDARD
TZOFFSETFROM:+0100
TZOFFSETTO:+0000
TZNAME:GMT
DTSTART:20261025T010000
END:STANDARD
END:VTIMEZONE
BEGIN:VEVENT
DTSTART;VALUE=DATE:20260409
DTEND;VALUE=DATE:20260410
DTSTAMP:20260421T160748
CREATED:20251111T150939Z
LAST-MODIFIED:20251111T150939Z
UID:3132-1775692800-1775779199@curvelearning.org.uk
SUMMARY:Level 3 Dysphagia Awareness - Train the Trainer
DESCRIPTION:
URL:https://curvelearning.org.uk/event/level-3-dysphagia-awareness-train-the-trainer-5/
LOCATION:Bridge House\, Bridge House\, Bridge Rd\, Horbury\, Wakefield\, West Yorkshire\, WF4 5NN\, United Kingdom
ORGANIZER;CN="Curve Learning and Development":MAILTO:contactcurve@curvelearning.org.uk
END:VEVENT
BEGIN:VEVENT
DTSTART;VALUE=DATE:20260409
DTEND;VALUE=DATE:20260410
DTSTAMP:20260421T160748
CREATED:20251111T152343Z
LAST-MODIFIED:20251111T152343Z
UID:3134-1775692800-1775779199@curvelearning.org.uk
SUMMARY:Level 3 Fire Warden & Fire Safety - Train The Trainer (Video) 3.5
DESCRIPTION:Level 3 Train The Trainer – Fire Warden & Fire Safety (Video) 3.5
URL:https://curvelearning.org.uk/event/level-3-fire-warden-fire-safety-train-the-trainer-video-3-5-16/
LOCATION:Microsoft Teams
ORGANIZER;CN="Curve Learning and Development":MAILTO:contactcurve@curvelearning.org.uk
END:VEVENT
BEGIN:VEVENT
DTSTART;VALUE=DATE:20260415
DTEND;VALUE=DATE:20260416
DTSTAMP:20260421T160748
CREATED:20251111T152748Z
LAST-MODIFIED:20251111T152748Z
UID:3136-1776211200-1776297599@curvelearning.org.uk
SUMMARY:Level 3 Moving and Handling - Train The Trainer (Video)
DESCRIPTION:
URL:https://curvelearning.org.uk/event/level-3-moving-and-handling-train-the-trainer-video-81/
LOCATION:Microsoft Teams
ORGANIZER;CN="Curve Learning and Development":MAILTO:contactcurve@curvelearning.org.uk
END:VEVENT
BEGIN:VEVENT
DTSTART;VALUE=DATE:20260423
DTEND;VALUE=DATE:20260424
DTSTAMP:20260421T160748
CREATED:20251111T162321Z
LAST-MODIFIED:20251111T162321Z
UID:3138-1776902400-1776988799@curvelearning.org.uk
SUMMARY:Level 3 Moving and Handling - Train The Trainer (Video)
DESCRIPTION:
URL:https://curvelearning.org.uk/event/level-3-moving-and-handling-train-the-trainer-video-82/
LOCATION:Microsoft Teams
ORGANIZER;CN="Curve Learning and Development":MAILTO:contactcurve@curvelearning.org.uk
END:VEVENT
BEGIN:VEVENT
DTSTART;VALUE=DATE:20260424
DTEND;VALUE=DATE:20260425
DTSTAMP:20260421T160748
CREATED:20251111T163655Z
LAST-MODIFIED:20251111T163655Z
UID:3140-1776988800-1777075199@curvelearning.org.uk
SUMMARY:Level 3 Mental Capacity Act - Train The Trainer (Video) 3.5
DESCRIPTION:
URL:https://curvelearning.org.uk/event/level-3-mental-capacity-act-train-the-trainer-video-3-5-10/
LOCATION:Microsoft Teams
ORGANIZER;CN="Curve Learning and Development":MAILTO:contactcurve@curvelearning.org.uk
END:VEVENT
BEGIN:VEVENT
DTSTART;VALUE=DATE:20260424
DTEND;VALUE=DATE:20260425
DTSTAMP:20260421T160748
CREATED:20251112T130412Z
LAST-MODIFIED:20251112T130412Z
UID:3142-1776988800-1777075199@curvelearning.org.uk
SUMMARY:Level 3 Safeguarding Adults - Train The Trainer (Video) 3.5
DESCRIPTION:
URL:https://curvelearning.org.uk/event/level-3-safeguarding-adults-train-the-trainer-video-3-5-12/
LOCATION:Microsoft Teams
ORGANIZER;CN="Curve Learning and Development":MAILTO:contactcurve@curvelearning.org.uk
END:VEVENT
BEGIN:VEVENT
DTSTART;VALUE=DATE:20260428
DTEND;VALUE=DATE:20260429
DTSTAMP:20260421T160748
CREATED:20251112T130606Z
LAST-MODIFIED:20251112T130606Z
UID:3144-1777334400-1777420799@curvelearning.org.uk
SUMMARY:Level 3 Positive Behaviour Support - Train The Trainer (Video)
DESCRIPTION:
URL:https://curvelearning.org.uk/event/level-3-positive-behaviour-support-train-the-trainer-video-4/
LOCATION:Microsoft Teams
ORGANIZER;CN="Curve Learning and Development":MAILTO:contactcurve@curvelearning.org.uk
END:VEVENT
BEGIN:VEVENT
DTSTART;VALUE=DATE:20260428
DTEND;VALUE=DATE:20260429
DTSTAMP:20260421T160748
CREATED:20251112T132644Z
LAST-MODIFIED:20251112T132644Z
UID:3146-1777334400-1777420799@curvelearning.org.uk
SUMMARY:Level 3 Managing Behaviours That Challenge - Train The Trainer (Video) 3.5
DESCRIPTION:
URL:https://curvelearning.org.uk/event/level-3-managing-behaviours-that-challenge-train-the-trainer-video-3-5-7/
LOCATION:Microsoft Teams
ORGANIZER;CN="Curve Learning and Development":MAILTO:contactcurve@curvelearning.org.uk
END:VEVENT
BEGIN:VEVENT
DTSTART;VALUE=DATE:20260429
DTEND;VALUE=DATE:20260430
DTSTAMP:20260421T160748
CREATED:20251112T132855Z
LAST-MODIFIED:20251112T132855Z
UID:3148-1777420800-1777507199@curvelearning.org.uk
SUMMARY:Level 3 Medication - Train The Trainer (Video)
DESCRIPTION:
URL:https://curvelearning.org.uk/event/level-3-medication-train-the-trainer-video-42/
LOCATION:Microsoft Teams
ORGANIZER;CN="Curve Learning and Development":MAILTO:contactcurve@curvelearning.org.uk
END:VEVENT
BEGIN:VEVENT
DTSTART;VALUE=DATE:20260430
DTEND;VALUE=DATE:20260501
DTSTAMP:20260421T160748
CREATED:20251112T133022Z
LAST-MODIFIED:20251112T133022Z
UID:3150-1777507200-1777593599@curvelearning.org.uk
SUMMARY:Level 3 Moving and Handling - Train The Trainer (Video)
DESCRIPTION:
URL:https://curvelearning.org.uk/event/level-3-moving-and-handling-train-the-trainer-video-83/
LOCATION:Microsoft Teams
ORGANIZER;CN="Curve Learning and Development":MAILTO:contactcurve@curvelearning.org.uk
END:VEVENT
BEGIN:VEVENT
DTSTART;VALUE=DATE:20260501
DTEND;VALUE=DATE:20260502
DTSTAMP:20260421T160748
CREATED:20251112T133219Z
LAST-MODIFIED:20251112T133219Z
UID:3152-1777593600-1777679999@curvelearning.org.uk
SUMMARY:Level 3 First Aid - Train The Trainer (Video)
DESCRIPTION:Level 3 Train The Trainer – First Aid (Video)
URL:https://curvelearning.org.uk/event/level-3-first-aid-train-the-trainer-video-36/
LOCATION:Microsoft Teams
ORGANIZER;CN="Curve Learning and Development":MAILTO:contactcurve@curvelearning.org.uk
END:VEVENT
BEGIN:VEVENT
DTSTART;VALUE=DATE:20260506
DTEND;VALUE=DATE:20260507
DTSTAMP:20260421T160748
CREATED:20251112T133330Z
LAST-MODIFIED:20251112T133330Z
UID:3154-1778025600-1778111999@curvelearning.org.uk
SUMMARY:Level 3 Moving and Handling - Train The Trainer (Video)
DESCRIPTION:
URL:https://curvelearning.org.uk/event/level-3-moving-and-handling-train-the-trainer-video-84/
LOCATION:Microsoft Teams
ORGANIZER;CN="Curve Learning and Development":MAILTO:contactcurve@curvelearning.org.uk
END:VEVENT
BEGIN:VEVENT
DTSTART;VALUE=DATE:20260507
DTEND;VALUE=DATE:20260508
DTSTAMP:20260421T160748
CREATED:20251112T133527Z
LAST-MODIFIED:20251112T133527Z
UID:3156-1778112000-1778198399@curvelearning.org.uk
SUMMARY:Mental Health First Aid - 2 Day
DESCRIPTION:
URL:https://curvelearning.org.uk/event/mental-health-first-aid-2-day-7/
LOCATION:Bridge House\, Bridge House\, Bridge Rd\, Horbury\, Wakefield\, West Yorkshire\, WF4 5NN\, United Kingdom
ORGANIZER;CN="Curve Learning and Development":MAILTO:contactcurve@curvelearning.org.uk
END:VEVENT
BEGIN:VEVENT
DTSTART;VALUE=DATE:20260508
DTEND;VALUE=DATE:20260509
DTSTAMP:20260421T160748
CREATED:20251112T133648Z
LAST-MODIFIED:20251112T133648Z
UID:3158-1778198400-1778284799@curvelearning.org.uk
SUMMARY:Mental Health First Aid - 2 Day
DESCRIPTION:
URL:https://curvelearning.org.uk/event/mental-health-first-aid-2-day-8/
LOCATION:Bridge House\, Bridge House\, Bridge Rd\, Horbury\, Wakefield\, West Yorkshire\, WF4 5NN\, United Kingdom
ORGANIZER;CN="Curve Learning and Development":MAILTO:contactcurve@curvelearning.org.uk
END:VEVENT
END:VCALENDAR