BEGIN:VCALENDAR
VERSION:2.0
PRODID:-//Curve Learning &amp; Development - ECPv6.6.4.2//NONSGML v1.0//EN
CALSCALE:GREGORIAN
METHOD:PUBLISH
X-ORIGINAL-URL:https://curvelearning.org.uk
X-WR-CALDESC:Events for Curve Learning &amp; Development
REFRESH-INTERVAL;VALUE=DURATION:PT1H
X-Robots-Tag:noindex
X-PUBLISHED-TTL:PT1H
BEGIN:VTIMEZONE
TZID:Europe/London
BEGIN:DAYLIGHT
TZOFFSETFROM:+0000
TZOFFSETTO:+0100
TZNAME:BST
DTSTART:20260329T010000
END:DAYLIGHT
BEGIN:STANDARD
TZOFFSETFROM:+0100
TZOFFSETTO:+0000
TZNAME:GMT
DTSTART:20261025T010000
END:STANDARD
END:VTIMEZONE
BEGIN:VEVENT
DTSTART;VALUE=DATE:20260123
DTEND;VALUE=DATE:20260124
DTSTAMP:20260425T141733
CREATED:20251110T143955Z
LAST-MODIFIED:20251110T143955Z
UID:3060-1769126400-1769212799@curvelearning.org.uk
SUMMARY:Level 3 Mental Capacity Act - Train The Trainer (Video) 3.5
DESCRIPTION:
URL:https://curvelearning.org.uk/event/level-3-mental-capacity-act-train-the-trainer-video-3-5-9/
LOCATION:Microsoft Teams
ORGANIZER;CN="Curve Learning and Development":MAILTO:contactcurve@curvelearning.org.uk
END:VEVENT
BEGIN:VEVENT
DTSTART;VALUE=DATE:20260123
DTEND;VALUE=DATE:20260124
DTSTAMP:20260425T141733
CREATED:20251110T144124Z
LAST-MODIFIED:20251110T144124Z
UID:3062-1769126400-1769212799@curvelearning.org.uk
SUMMARY:Level 3 First Aid - Train The Trainer (Video)
DESCRIPTION:
URL:https://curvelearning.org.uk/event/level-3-first-aid-train-the-trainer-video-32/
LOCATION:Microsoft Teams
ORGANIZER;CN="Curve Learning and Development":MAILTO:contactcurve@curvelearning.org.uk
END:VEVENT
BEGIN:VEVENT
DTSTART;VALUE=DATE:20260123
DTEND;VALUE=DATE:20260124
DTSTAMP:20260425T141733
CREATED:20251110T144340Z
LAST-MODIFIED:20251110T144340Z
UID:3064-1769126400-1769212799@curvelearning.org.uk
SUMMARY:Level 3 Equality and Diversity - Train The Trainer (Video) 3.5
DESCRIPTION:
URL:https://curvelearning.org.uk/event/level-3-equality-and-diversity-train-the-trainer-video-3-5-5/
LOCATION:Microsoft Teams
ORGANIZER;CN="Curve Learning and Development":MAILTO:contactcurve@curvelearning.org.uk
END:VEVENT
END:VCALENDAR