BEGIN:VCALENDAR
VERSION:2.0
PRODID:-//Curve Learning &amp; Development - ECPv6.6.4.2//NONSGML v1.0//EN
CALSCALE:GREGORIAN
METHOD:PUBLISH
X-ORIGINAL-URL:https://curvelearning.org.uk
X-WR-CALDESC:Events for Curve Learning &amp; Development
REFRESH-INTERVAL;VALUE=DURATION:PT1H
X-Robots-Tag:noindex
X-PUBLISHED-TTL:PT1H
BEGIN:VTIMEZONE
TZID:Europe/London
BEGIN:DAYLIGHT
TZOFFSETFROM:+0000
TZOFFSETTO:+0100
TZNAME:BST
DTSTART:20250330T010000
END:DAYLIGHT
BEGIN:STANDARD
TZOFFSETFROM:+0100
TZOFFSETTO:+0000
TZNAME:GMT
DTSTART:20251026T010000
END:STANDARD
END:VTIMEZONE
BEGIN:VEVENT
DTSTART;VALUE=DATE:20251208
DTEND;VALUE=DATE:20251209
DTSTAMP:20260425T162200
CREATED:20241023T151953Z
LAST-MODIFIED:20241023T151953Z
UID:2226-1765152000-1765238399@curvelearning.org.uk
SUMMARY:Level 3 Managing Behaviours That Challenge - Train The Trainer (Video) 3.5
DESCRIPTION:
URL:https://curvelearning.org.uk/event/level-3-managing-behaviours-that-challenge-train-the-trainer-video-3-5-6/
LOCATION:Microsoft Teams
ORGANIZER;CN="Curve Learning and Development":MAILTO:contactcurve@curvelearning.org.uk
END:VEVENT
BEGIN:VEVENT
DTSTART;VALUE=DATE:20251208
DTEND;VALUE=DATE:20251209
DTSTAMP:20260425T162200
CREATED:20241023T152151Z
LAST-MODIFIED:20241023T152151Z
UID:2228-1765152000-1765238399@curvelearning.org.uk
SUMMARY:Level 3 Person Centred Planning - Train The Trainer (Video) 3.5
DESCRIPTION:
URL:https://curvelearning.org.uk/event/level-3-person-centred-planning-train-the-trainer-video-3-5-2/
LOCATION:Microsoft Teams
ORGANIZER;CN="Curve Learning and Development":MAILTO:contactcurve@curvelearning.org.uk
END:VEVENT
END:VCALENDAR